BEGIN:VCALENDAR
VERSION:2.0
PRODID:-//Litter-free Purbeck - ECPv6.15.20//NONSGML v1.0//EN
CALSCALE:GREGORIAN
METHOD:PUBLISH
X-WR-CALNAME:Litter-free Purbeck
X-ORIGINAL-URL:https://litter-freepurbeck.org.uk
X-WR-CALDESC:Events for Litter-free Purbeck
REFRESH-INTERVAL;VALUE=DURATION:PT1H
X-Robots-Tag:noindex
X-PUBLISHED-TTL:PT1H
BEGIN:VTIMEZONE
TZID:Europe/London
BEGIN:DAYLIGHT
TZOFFSETFROM:+0000
TZOFFSETTO:+0100
TZNAME:BST
DTSTART:20220327T010000
END:DAYLIGHT
BEGIN:STANDARD
TZOFFSETFROM:+0100
TZOFFSETTO:+0000
TZNAME:GMT
DTSTART:20221030T010000
END:STANDARD
BEGIN:DAYLIGHT
TZOFFSETFROM:+0000
TZOFFSETTO:+0100
TZNAME:BST
DTSTART:20230326T010000
END:DAYLIGHT
BEGIN:STANDARD
TZOFFSETFROM:+0100
TZOFFSETTO:+0000
TZNAME:GMT
DTSTART:20231029T010000
END:STANDARD
BEGIN:DAYLIGHT
TZOFFSETFROM:+0000
TZOFFSETTO:+0100
TZNAME:BST
DTSTART:20240331T010000
END:DAYLIGHT
BEGIN:STANDARD
TZOFFSETFROM:+0100
TZOFFSETTO:+0000
TZNAME:GMT
DTSTART:20241027T010000
END:STANDARD
END:VTIMEZONE
BEGIN:VEVENT
DTSTART;TZID=Europe/London:20230304T090000
DTEND;TZID=Europe/London:20230304T103000
DTSTAMP:20260422T181500
CREATED:20230127T105656Z
LAST-MODIFIED:20230224T194400Z
UID:10000194-1677920400-1677925800@litter-freepurbeck.org.uk
SUMMARY:Clean Up Corfe litter pick
DESCRIPTION:If you are free to join us\, let’s meet at 9am by the cross in The Square.  Please keep your eyes peeled as you move around the village / parish\, so you can let us know if there are any litter hotspots we ought to address then.\n \nIf possible\, please let myself / Kevin know if you are able to join us so we can make sure we have enough litter pickers and vests\, but please do join us even if you only know at the last minute!\n \nMy number is 07767 644947 or Kevin is on 07521 559877.\n \nCheers Helen (and Kevin)\nCo-ordinators of Clean Up Corfe.
URL:https://litter-freepurbeck.org.uk/event-calendar/clean-up-corfe-litter-pick-2/2023-03-04/
LOCATION:Dorset
ATTACH;FMTTYPE=image/avif:https://litter-freepurbeck.org.uk/wp-content/uploads/2022/05/IMG_0842-copy.avif
ORGANIZER;CN="Kevin Culbert":MAILTO:kevin.culbert@btinternet.com
END:VEVENT
END:VCALENDAR