BEGIN:VCALENDAR
VERSION:2.0
PRODID:-//Litter-free Purbeck - ECPv6.15.20//NONSGML v1.0//EN
CALSCALE:GREGORIAN
METHOD:PUBLISH
X-ORIGINAL-URL:https://litter-freepurbeck.org.uk
X-WR-CALDESC:Events for Litter-free Purbeck
REFRESH-INTERVAL;VALUE=DURATION:PT1H
X-Robots-Tag:noindex
X-PUBLISHED-TTL:PT1H
BEGIN:VTIMEZONE
TZID:Europe/London
BEGIN:DAYLIGHT
TZOFFSETFROM:+0000
TZOFFSETTO:+0100
TZNAME:BST
DTSTART:20220327T010000
END:DAYLIGHT
BEGIN:STANDARD
TZOFFSETFROM:+0100
TZOFFSETTO:+0000
TZNAME:GMT
DTSTART:20221030T010000
END:STANDARD
BEGIN:DAYLIGHT
TZOFFSETFROM:+0000
TZOFFSETTO:+0100
TZNAME:BST
DTSTART:20230326T010000
END:DAYLIGHT
BEGIN:STANDARD
TZOFFSETFROM:+0100
TZOFFSETTO:+0000
TZNAME:GMT
DTSTART:20231029T010000
END:STANDARD
BEGIN:DAYLIGHT
TZOFFSETFROM:+0000
TZOFFSETTO:+0100
TZNAME:BST
DTSTART:20240331T010000
END:DAYLIGHT
BEGIN:STANDARD
TZOFFSETFROM:+0100
TZOFFSETTO:+0000
TZNAME:GMT
DTSTART:20241027T010000
END:STANDARD
END:VTIMEZONE
BEGIN:VEVENT
DTSTART;TZID=Europe/London:20230630T163000
DTEND;TZID=Europe/London:20230630T180000
DTSTAMP:20260422T125004
CREATED:20230626T083824Z
LAST-MODIFIED:20230626T083824Z
UID:10000666-1688142600-1688148000@litter-freepurbeck.org.uk
SUMMARY:Clean Up Corfe - Friday Litter Picks
DESCRIPTION:Hello fellow litter pickers in Corfe\,\n \nI hope you are all enjoying this beautiful weather!  It’s that time again\, and this month due to doing a University visit on Saturday with our daughter\, we’ve rescheduled the litter pick to the day before\, and will to do the same for the follow litter pick\, creating two Friday tea time picks.  We’ll then go back to a Saturday morning pick for September.\n \nSo we will meet on Friday 30th June and on Friday 28th July at 4.30pm by the cross in The Square\, with the litter picks lasting between an hour\, and an hour and a half\, depending on the area we cover and amount of litter we find.\n \nHi-vi vests\, bags and litter pickers will be provided\, but you might like to bring along a pair of gloves to protect your hands!\n \nDon’t forget that this month the coffee morning is on at the Village Hall on Saturday\, followed by the FREE Soup and Pud session run by the wonderful Corfe Community Kitchen\, although there isn’t a Soup and Pud session in August.  \n \nHope to see you on Friday!\nCheers Helen 07767 644947 (and Kevin 07521 559877)
URL:https://litter-freepurbeck.org.uk/event-calendar/clean-up-corfe-friday-litter-picks/2023-06-30/
LOCATION:The Square\, Corfe Castle\, The Square\, Corfe Castle\, Dorset\, BH20 5EZ\, United Kingdom
ATTACH;FMTTYPE=image/avif:https://litter-freepurbeck.org.uk/wp-content/uploads/2022/05/IMG_0842-copy.avif
ORGANIZER;CN="Kevin Culbert":MAILTO:kevin.culbert@btinternet.com
END:VEVENT
END:VCALENDAR