BEGIN:VCALENDAR
VERSION:2.0
PRODID:-//Litter-free Purbeck - ECPv6.15.20//NONSGML v1.0//EN
CALSCALE:GREGORIAN
METHOD:PUBLISH
X-WR-CALNAME:Litter-free Purbeck
X-ORIGINAL-URL:https://litter-freepurbeck.org.uk
X-WR-CALDESC:Events for Litter-free Purbeck
REFRESH-INTERVAL;VALUE=DURATION:PT1H
X-Robots-Tag:noindex
X-PUBLISHED-TTL:PT1H
BEGIN:VTIMEZONE
TZID:Europe/London
BEGIN:DAYLIGHT
TZOFFSETFROM:+0000
TZOFFSETTO:+0100
TZNAME:BST
DTSTART:20210328T010000
END:DAYLIGHT
BEGIN:STANDARD
TZOFFSETFROM:+0100
TZOFFSETTO:+0000
TZNAME:GMT
DTSTART:20211031T010000
END:STANDARD
BEGIN:DAYLIGHT
TZOFFSETFROM:+0000
TZOFFSETTO:+0100
TZNAME:BST
DTSTART:20220327T010000
END:DAYLIGHT
BEGIN:STANDARD
TZOFFSETFROM:+0100
TZOFFSETTO:+0000
TZNAME:GMT
DTSTART:20221030T010000
END:STANDARD
BEGIN:DAYLIGHT
TZOFFSETFROM:+0000
TZOFFSETTO:+0100
TZNAME:BST
DTSTART:20230326T010000
END:DAYLIGHT
BEGIN:STANDARD
TZOFFSETFROM:+0100
TZOFFSETTO:+0000
TZNAME:GMT
DTSTART:20231029T010000
END:STANDARD
END:VTIMEZONE
BEGIN:VEVENT
DTSTART;TZID=Europe/London:20221020T140000
DTEND;TZID=Europe/London:20221020T153000
DTSTAMP:20260420T222841
CREATED:20220411T135204Z
LAST-MODIFIED:20220712T103459Z
UID:10000094-1666274400-1666279800@litter-freepurbeck.org.uk
SUMMARY:Swanage Landers & Beach Buddies
DESCRIPTION:Meet at the the Main Beach Car Park\, Victoria Avenue\, Swanage BH19 1AP. \nWe would love you to join us. \nFor more details contact Frank Roberts at swanagelanders@herstoncross.co.uk
URL:https://litter-freepurbeck.org.uk/event-calendar/swanage-landers-beach-buddies-2/2022-10-20/
LOCATION:Main Beach car park\, Victoria Avenue\, Swanage\, Dorset\, BH19 1AP\, United Kingdom
ATTACH;FMTTYPE=image/avif:https://litter-freepurbeck.org.uk/wp-content/uploads/2022/03/20220324_152221.avif
ORGANIZER;CN="Frank Roberts":MAILTO:swanagelanders@herstoncross.co.uk
END:VEVENT
BEGIN:VEVENT
DTSTART;TZID=Europe/London:20221016T090000
DTEND;TZID=Europe/London:20221016T103000
DTSTAMP:20260420T222841
CREATED:20220410T110046Z
LAST-MODIFIED:20240101T112309Z
UID:10000055-1665910800-1665916200@litter-freepurbeck.org.uk
SUMMARY:Swanage Beach Buddies
DESCRIPTION:We would welcome your support at our next sheduled beach clean. \nPlease contact us if you’d like to join in: swanagebeachbuddies@gmail.com or text to 07974 399887. \nCheers\nDave and Sally\n07974 399887
URL:https://litter-freepurbeck.org.uk/event-calendar/swanage-beach-buddies-2/2022-10-16/
LOCATION:Litter-Free Purbeck Beach Hut\, Shore Road\, Swanage\, Dorset\, BH19 1LB\, United Kingdom
ATTACH;FMTTYPE=image/avif:https://litter-freepurbeck.org.uk/wp-content/uploads/2022/03/Swanage-Beach-Buddies-20th-March-2022.avif
ORGANIZER;CN="Dave and Sally Pratten":MAILTO:swanagebeachbuddies@gmail.com
END:VEVENT
BEGIN:VEVENT
DTSTART;TZID=Europe/London:20221009T090000
DTEND;TZID=Europe/London:20221009T103000
DTSTAMP:20260420T222841
CREATED:20220410T110046Z
LAST-MODIFIED:20240101T112309Z
UID:10000054-1665306000-1665311400@litter-freepurbeck.org.uk
SUMMARY:Swanage Beach Buddies
DESCRIPTION:We would welcome your support at our next sheduled beach clean. \nPlease contact us if you’d like to join in: swanagebeachbuddies@gmail.com or text to 07974 399887. \nCheers\nDave and Sally\n07974 399887
URL:https://litter-freepurbeck.org.uk/event-calendar/swanage-beach-buddies-2/2022-10-09/
LOCATION:Litter-Free Purbeck Beach Hut\, Shore Road\, Swanage\, Dorset\, BH19 1LB\, United Kingdom
ATTACH;FMTTYPE=image/avif:https://litter-freepurbeck.org.uk/wp-content/uploads/2022/03/Swanage-Beach-Buddies-20th-March-2022.avif
ORGANIZER;CN="Dave and Sally Pratten":MAILTO:swanagebeachbuddies@gmail.com
END:VEVENT
BEGIN:VEVENT
DTSTART;TZID=Europe/London:20221008T093000
DTEND;TZID=Europe/London:20221008T233000
DTSTAMP:20260420T222841
CREATED:20220410T174205Z
LAST-MODIFIED:20220904T123249Z
UID:10000079-1665221400-1665271800@litter-freepurbeck.org.uk
SUMMARY:Wareham Wombles
DESCRIPTION:Litter-pick from 09:30 -11:30 am\n\n\n\n\n\n\n\n\n\n\n\nWestport House (outside of)\n\nPlease register your attendance in advance at litterfreepurbeck@gmail.com
URL:https://litter-freepurbeck.org.uk/event-calendar/wareham-wombles/2022-10-08/
LOCATION:Westport House (outside of)\, Worgret Road\, Wareham\, Dorset\, BH20 4PP\, United Kingdom
ATTACH;FMTTYPE=image/avif:https://litter-freepurbeck.org.uk/wp-content/uploads/2022/04/Wareham-Wombles-14th-May-2022.avif
ORGANIZER;CN="Harold Forbes":MAILTO:litterfreepurbeck@gmail.com
END:VEVENT
BEGIN:VEVENT
DTSTART;TZID=Europe/London:20221006T140000
DTEND;TZID=Europe/London:20221006T153000
DTSTAMP:20260420T222841
CREATED:20220411T135204Z
LAST-MODIFIED:20220712T103459Z
UID:10000093-1665064800-1665070200@litter-freepurbeck.org.uk
SUMMARY:Swanage Landers & Beach Buddies
DESCRIPTION:Meet at the the Main Beach Car Park\, Victoria Avenue\, Swanage BH19 1AP. \nWe would love you to join us. \nFor more details contact Frank Roberts at swanagelanders@herstoncross.co.uk
URL:https://litter-freepurbeck.org.uk/event-calendar/swanage-landers-beach-buddies-2/2022-10-06/
LOCATION:Main Beach car park\, Victoria Avenue\, Swanage\, Dorset\, BH19 1AP\, United Kingdom
ATTACH;FMTTYPE=image/avif:https://litter-freepurbeck.org.uk/wp-content/uploads/2022/03/20220324_152221.avif
ORGANIZER;CN="Frank Roberts":MAILTO:swanagelanders@herstoncross.co.uk
END:VEVENT
BEGIN:VEVENT
DTSTART;TZID=Europe/London:20221002T090000
DTEND;TZID=Europe/London:20221002T103000
DTSTAMP:20260420T222841
CREATED:20220410T110046Z
LAST-MODIFIED:20240101T112309Z
UID:10000053-1664701200-1664706600@litter-freepurbeck.org.uk
SUMMARY:Swanage Beach Buddies
DESCRIPTION:We would welcome your support at our next sheduled beach clean. \nPlease contact us if you’d like to join in: swanagebeachbuddies@gmail.com or text to 07974 399887. \nCheers\nDave and Sally\n07974 399887
URL:https://litter-freepurbeck.org.uk/event-calendar/swanage-beach-buddies-2/2022-10-02/
LOCATION:Litter-Free Purbeck Beach Hut\, Shore Road\, Swanage\, Dorset\, BH19 1LB\, United Kingdom
ATTACH;FMTTYPE=image/avif:https://litter-freepurbeck.org.uk/wp-content/uploads/2022/03/Swanage-Beach-Buddies-20th-March-2022.avif
ORGANIZER;CN="Dave and Sally Pratten":MAILTO:swanagebeachbuddies@gmail.com
END:VEVENT
BEGIN:VEVENT
DTSTART;TZID=Europe/London:20220927T180000
DTEND;TZID=Europe/London:20220927T193000
DTSTAMP:20260420T222841
CREATED:20220410T105309Z
LAST-MODIFIED:20220721T110313Z
UID:10000028-1664301600-1664307000@litter-freepurbeck.org.uk
SUMMARY:Swanage Beach Buddies
DESCRIPTION:We would welcome your support at our next sheduled beach clean. \nPlease contact us if you’d like to join in: swanagebeachbuddies@gmail.com or text to 07974 399887. \nCheers\nDave and Sally\n07974 399887
URL:https://litter-freepurbeck.org.uk/event-calendar/swanage-beach-buddies/2022-09-27/
LOCATION:Litter-Free Purbeck Beach Hut\, Shore Road\, Swanage\, Dorset\, BH19 1LB\, United Kingdom
ATTACH;FMTTYPE=image/avif:https://litter-freepurbeck.org.uk/wp-content/uploads/2022/03/Swanage-Beach-Buddies-20th-March-2022.avif
ORGANIZER;CN="Dave and Sally Pratten":MAILTO:swanagebeachbuddies@gmail.com
END:VEVENT
BEGIN:VEVENT
DTSTART;TZID=Europe/London:20220925T090000
DTEND;TZID=Europe/London:20220925T103000
DTSTAMP:20260420T222841
CREATED:20220410T110046Z
LAST-MODIFIED:20240101T112309Z
UID:10000052-1664096400-1664101800@litter-freepurbeck.org.uk
SUMMARY:Swanage Beach Buddies
DESCRIPTION:We would welcome your support at our next sheduled beach clean. \nPlease contact us if you’d like to join in: swanagebeachbuddies@gmail.com or text to 07974 399887. \nCheers\nDave and Sally\n07974 399887
URL:https://litter-freepurbeck.org.uk/event-calendar/swanage-beach-buddies-2/2022-09-25/
LOCATION:Litter-Free Purbeck Beach Hut\, Shore Road\, Swanage\, Dorset\, BH19 1LB\, United Kingdom
ATTACH;FMTTYPE=image/avif:https://litter-freepurbeck.org.uk/wp-content/uploads/2022/03/Swanage-Beach-Buddies-20th-March-2022.avif
ORGANIZER;CN="Dave and Sally Pratten":MAILTO:swanagebeachbuddies@gmail.com
END:VEVENT
BEGIN:VEVENT
DTSTART;TZID=Europe/London:20220924T091500
DTEND;TZID=Europe/London:20220924T103000
DTSTAMP:20260420T222841
CREATED:20220410T171935Z
LAST-MODIFIED:20220712T103659Z
UID:10000070-1664010900-1664015400@litter-freepurbeck.org.uk
SUMMARY:Swanage Landers
DESCRIPTION:Our next monthly litter-pick is at the Main Beach Car Park\, Victoria Avenue\, Swanage BH19 1AP. \nWe would love you to join us. \nFor more details contact Frank Roberts at swanagelanders@herstoncross.co.uk
URL:https://litter-freepurbeck.org.uk/event-calendar/swanage-landers/2022-09-24/
LOCATION:Main Beach car park\, Victoria Avenue\, Swanage\, Dorset\, BH19 1AP\, United Kingdom
ATTACH;FMTTYPE=image/avif:https://litter-freepurbeck.org.uk/wp-content/uploads/2021/06/SwanageLanders20190824.avif
ORGANIZER;CN="Frank Roberts":MAILTO:swanagelanders@herstoncross.co.uk
END:VEVENT
BEGIN:VEVENT
DTSTART;TZID=Europe/London:20220922T140000
DTEND;TZID=Europe/London:20220922T153000
DTSTAMP:20260420T222841
CREATED:20220411T135204Z
LAST-MODIFIED:20220712T103459Z
UID:10000092-1663855200-1663860600@litter-freepurbeck.org.uk
SUMMARY:Swanage Landers & Beach Buddies
DESCRIPTION:Meet at the the Main Beach Car Park\, Victoria Avenue\, Swanage BH19 1AP. \nWe would love you to join us. \nFor more details contact Frank Roberts at swanagelanders@herstoncross.co.uk
URL:https://litter-freepurbeck.org.uk/event-calendar/swanage-landers-beach-buddies-2/2022-09-22/
LOCATION:Main Beach car park\, Victoria Avenue\, Swanage\, Dorset\, BH19 1AP\, United Kingdom
ATTACH;FMTTYPE=image/avif:https://litter-freepurbeck.org.uk/wp-content/uploads/2022/03/20220324_152221.avif
ORGANIZER;CN="Frank Roberts":MAILTO:swanagelanders@herstoncross.co.uk
END:VEVENT
BEGIN:VEVENT
DTSTART;TZID=Europe/London:20220920T180000
DTEND;TZID=Europe/London:20220920T193000
DTSTAMP:20260420T222841
CREATED:20220410T105309Z
LAST-MODIFIED:20220721T110313Z
UID:10000027-1663696800-1663702200@litter-freepurbeck.org.uk
SUMMARY:Swanage Beach Buddies
DESCRIPTION:We would welcome your support at our next sheduled beach clean. \nPlease contact us if you’d like to join in: swanagebeachbuddies@gmail.com or text to 07974 399887. \nCheers\nDave and Sally\n07974 399887
URL:https://litter-freepurbeck.org.uk/event-calendar/swanage-beach-buddies/2022-09-20/
LOCATION:Litter-Free Purbeck Beach Hut\, Shore Road\, Swanage\, Dorset\, BH19 1LB\, United Kingdom
ATTACH;FMTTYPE=image/avif:https://litter-freepurbeck.org.uk/wp-content/uploads/2022/03/Swanage-Beach-Buddies-20th-March-2022.avif
ORGANIZER;CN="Dave and Sally Pratten":MAILTO:swanagebeachbuddies@gmail.com
END:VEVENT
BEGIN:VEVENT
DTSTART;TZID=Europe/London:20220918T090000
DTEND;TZID=Europe/London:20220918T103000
DTSTAMP:20260420T222841
CREATED:20220410T110046Z
LAST-MODIFIED:20240101T112309Z
UID:10000051-1663491600-1663497000@litter-freepurbeck.org.uk
SUMMARY:Swanage Beach Buddies
DESCRIPTION:We would welcome your support at our next sheduled beach clean. \nPlease contact us if you’d like to join in: swanagebeachbuddies@gmail.com or text to 07974 399887. \nCheers\nDave and Sally\n07974 399887
URL:https://litter-freepurbeck.org.uk/event-calendar/swanage-beach-buddies-2/2022-09-18/
LOCATION:Litter-Free Purbeck Beach Hut\, Shore Road\, Swanage\, Dorset\, BH19 1LB\, United Kingdom
ATTACH;FMTTYPE=image/avif:https://litter-freepurbeck.org.uk/wp-content/uploads/2022/03/Swanage-Beach-Buddies-20th-March-2022.avif
ORGANIZER;CN="Dave and Sally Pratten":MAILTO:swanagebeachbuddies@gmail.com
END:VEVENT
BEGIN:VEVENT
DTSTART;TZID=Europe/London:20220913T180000
DTEND;TZID=Europe/London:20220913T193000
DTSTAMP:20260420T222841
CREATED:20220410T105309Z
LAST-MODIFIED:20220721T110313Z
UID:10000026-1663092000-1663097400@litter-freepurbeck.org.uk
SUMMARY:Swanage Beach Buddies
DESCRIPTION:We would welcome your support at our next sheduled beach clean. \nPlease contact us if you’d like to join in: swanagebeachbuddies@gmail.com or text to 07974 399887. \nCheers\nDave and Sally\n07974 399887
URL:https://litter-freepurbeck.org.uk/event-calendar/swanage-beach-buddies/2022-09-13/
LOCATION:Litter-Free Purbeck Beach Hut\, Shore Road\, Swanage\, Dorset\, BH19 1LB\, United Kingdom
ATTACH;FMTTYPE=image/avif:https://litter-freepurbeck.org.uk/wp-content/uploads/2022/03/Swanage-Beach-Buddies-20th-March-2022.avif
ORGANIZER;CN="Dave and Sally Pratten":MAILTO:swanagebeachbuddies@gmail.com
END:VEVENT
BEGIN:VEVENT
DTSTART;TZID=Europe/London:20220911T090000
DTEND;TZID=Europe/London:20220911T103000
DTSTAMP:20260420T222841
CREATED:20220410T110046Z
LAST-MODIFIED:20240101T112309Z
UID:10000050-1662886800-1662892200@litter-freepurbeck.org.uk
SUMMARY:Swanage Beach Buddies
DESCRIPTION:We would welcome your support at our next sheduled beach clean. \nPlease contact us if you’d like to join in: swanagebeachbuddies@gmail.com or text to 07974 399887. \nCheers\nDave and Sally\n07974 399887
URL:https://litter-freepurbeck.org.uk/event-calendar/swanage-beach-buddies-2/2022-09-11/
LOCATION:Litter-Free Purbeck Beach Hut\, Shore Road\, Swanage\, Dorset\, BH19 1LB\, United Kingdom
ATTACH;FMTTYPE=image/avif:https://litter-freepurbeck.org.uk/wp-content/uploads/2022/03/Swanage-Beach-Buddies-20th-March-2022.avif
ORGANIZER;CN="Dave and Sally Pratten":MAILTO:swanagebeachbuddies@gmail.com
END:VEVENT
BEGIN:VEVENT
DTSTART;TZID=Europe/London:20220910T093000
DTEND;TZID=Europe/London:20220910T233000
DTSTAMP:20260420T222841
CREATED:20220410T174205Z
LAST-MODIFIED:20220904T123249Z
UID:10000078-1662802200-1662852600@litter-freepurbeck.org.uk
SUMMARY:Wareham Wombles
DESCRIPTION:Litter-pick from 09:30 -11:30 am\n\n\n\n\n\n\n\n\n\n\n\nWestport House (outside of)\n\nPlease register your attendance in advance at litterfreepurbeck@gmail.com
URL:https://litter-freepurbeck.org.uk/event-calendar/wareham-wombles/2022-09-10/
LOCATION:Westport House (outside of)\, Worgret Road\, Wareham\, Dorset\, BH20 4PP\, United Kingdom
ATTACH;FMTTYPE=image/avif:https://litter-freepurbeck.org.uk/wp-content/uploads/2022/04/Wareham-Wombles-14th-May-2022.avif
ORGANIZER;CN="Harold Forbes":MAILTO:litterfreepurbeck@gmail.com
END:VEVENT
BEGIN:VEVENT
DTSTART;TZID=Europe/London:20220908T140000
DTEND;TZID=Europe/London:20220908T153000
DTSTAMP:20260420T222841
CREATED:20220411T135204Z
LAST-MODIFIED:20220712T103459Z
UID:10000091-1662645600-1662651000@litter-freepurbeck.org.uk
SUMMARY:Swanage Landers & Beach Buddies
DESCRIPTION:Meet at the the Main Beach Car Park\, Victoria Avenue\, Swanage BH19 1AP. \nWe would love you to join us. \nFor more details contact Frank Roberts at swanagelanders@herstoncross.co.uk
URL:https://litter-freepurbeck.org.uk/event-calendar/swanage-landers-beach-buddies-2/2022-09-08/
LOCATION:Main Beach car park\, Victoria Avenue\, Swanage\, Dorset\, BH19 1AP\, United Kingdom
ATTACH;FMTTYPE=image/avif:https://litter-freepurbeck.org.uk/wp-content/uploads/2022/03/20220324_152221.avif
ORGANIZER;CN="Frank Roberts":MAILTO:swanagelanders@herstoncross.co.uk
END:VEVENT
BEGIN:VEVENT
DTSTART;TZID=Europe/London:20220906T180000
DTEND;TZID=Europe/London:20220906T193000
DTSTAMP:20260420T222841
CREATED:20220410T105309Z
LAST-MODIFIED:20220721T110313Z
UID:10000025-1662487200-1662492600@litter-freepurbeck.org.uk
SUMMARY:Swanage Beach Buddies
DESCRIPTION:We would welcome your support at our next sheduled beach clean. \nPlease contact us if you’d like to join in: swanagebeachbuddies@gmail.com or text to 07974 399887. \nCheers\nDave and Sally\n07974 399887
URL:https://litter-freepurbeck.org.uk/event-calendar/swanage-beach-buddies/2022-09-06/
LOCATION:Litter-Free Purbeck Beach Hut\, Shore Road\, Swanage\, Dorset\, BH19 1LB\, United Kingdom
ATTACH;FMTTYPE=image/avif:https://litter-freepurbeck.org.uk/wp-content/uploads/2022/03/Swanage-Beach-Buddies-20th-March-2022.avif
ORGANIZER;CN="Dave and Sally Pratten":MAILTO:swanagebeachbuddies@gmail.com
END:VEVENT
BEGIN:VEVENT
DTSTART;TZID=Europe/London:20220904T090000
DTEND;TZID=Europe/London:20220904T103000
DTSTAMP:20260420T222841
CREATED:20220410T110046Z
LAST-MODIFIED:20240101T112309Z
UID:10000049-1662282000-1662287400@litter-freepurbeck.org.uk
SUMMARY:Swanage Beach Buddies
DESCRIPTION:We would welcome your support at our next sheduled beach clean. \nPlease contact us if you’d like to join in: swanagebeachbuddies@gmail.com or text to 07974 399887. \nCheers\nDave and Sally\n07974 399887
URL:https://litter-freepurbeck.org.uk/event-calendar/swanage-beach-buddies-2/2022-09-04/
LOCATION:Litter-Free Purbeck Beach Hut\, Shore Road\, Swanage\, Dorset\, BH19 1LB\, United Kingdom
ATTACH;FMTTYPE=image/avif:https://litter-freepurbeck.org.uk/wp-content/uploads/2022/03/Swanage-Beach-Buddies-20th-March-2022.avif
ORGANIZER;CN="Dave and Sally Pratten":MAILTO:swanagebeachbuddies@gmail.com
END:VEVENT
BEGIN:VEVENT
DTSTART;TZID=Europe/London:20220830T180000
DTEND;TZID=Europe/London:20220830T193000
DTSTAMP:20260420T222841
CREATED:20220410T105309Z
LAST-MODIFIED:20220721T110313Z
UID:10000024-1661882400-1661887800@litter-freepurbeck.org.uk
SUMMARY:Swanage Beach Buddies
DESCRIPTION:We would welcome your support at our next sheduled beach clean. \nPlease contact us if you’d like to join in: swanagebeachbuddies@gmail.com or text to 07974 399887. \nCheers\nDave and Sally\n07974 399887
URL:https://litter-freepurbeck.org.uk/event-calendar/swanage-beach-buddies/2022-08-30/
LOCATION:Litter-Free Purbeck Beach Hut\, Shore Road\, Swanage\, Dorset\, BH19 1LB\, United Kingdom
ATTACH;FMTTYPE=image/avif:https://litter-freepurbeck.org.uk/wp-content/uploads/2022/03/Swanage-Beach-Buddies-20th-March-2022.avif
ORGANIZER;CN="Dave and Sally Pratten":MAILTO:swanagebeachbuddies@gmail.com
END:VEVENT
BEGIN:VEVENT
DTSTART;TZID=Europe/London:20220828T090000
DTEND;TZID=Europe/London:20220828T103000
DTSTAMP:20260420T222841
CREATED:20220410T110046Z
LAST-MODIFIED:20240101T112309Z
UID:10000048-1661677200-1661682600@litter-freepurbeck.org.uk
SUMMARY:Swanage Beach Buddies
DESCRIPTION:We would welcome your support at our next sheduled beach clean. \nPlease contact us if you’d like to join in: swanagebeachbuddies@gmail.com or text to 07974 399887. \nCheers\nDave and Sally\n07974 399887
URL:https://litter-freepurbeck.org.uk/event-calendar/swanage-beach-buddies-2/2022-08-28/
LOCATION:Litter-Free Purbeck Beach Hut\, Shore Road\, Swanage\, Dorset\, BH19 1LB\, United Kingdom
ATTACH;FMTTYPE=image/avif:https://litter-freepurbeck.org.uk/wp-content/uploads/2022/03/Swanage-Beach-Buddies-20th-March-2022.avif
ORGANIZER;CN="Dave and Sally Pratten":MAILTO:swanagebeachbuddies@gmail.com
END:VEVENT
BEGIN:VEVENT
DTSTART;TZID=Europe/London:20220827T091500
DTEND;TZID=Europe/London:20220827T103000
DTSTAMP:20260420T222841
CREATED:20220410T171935Z
LAST-MODIFIED:20220712T103659Z
UID:10000069-1661591700-1661596200@litter-freepurbeck.org.uk
SUMMARY:Swanage Landers
DESCRIPTION:Our next monthly litter-pick is at the Main Beach Car Park\, Victoria Avenue\, Swanage BH19 1AP. \nWe would love you to join us. \nFor more details contact Frank Roberts at swanagelanders@herstoncross.co.uk
URL:https://litter-freepurbeck.org.uk/event-calendar/swanage-landers/2022-08-27/
LOCATION:Main Beach car park\, Victoria Avenue\, Swanage\, Dorset\, BH19 1AP\, United Kingdom
ATTACH;FMTTYPE=image/avif:https://litter-freepurbeck.org.uk/wp-content/uploads/2021/06/SwanageLanders20190824.avif
ORGANIZER;CN="Frank Roberts":MAILTO:swanagelanders@herstoncross.co.uk
END:VEVENT
BEGIN:VEVENT
DTSTART;TZID=Europe/London:20220825T140000
DTEND;TZID=Europe/London:20220825T153000
DTSTAMP:20260420T222841
CREATED:20220411T135204Z
LAST-MODIFIED:20220712T103459Z
UID:10000090-1661436000-1661441400@litter-freepurbeck.org.uk
SUMMARY:Swanage Landers & Beach Buddies
DESCRIPTION:Meet at the the Main Beach Car Park\, Victoria Avenue\, Swanage BH19 1AP. \nWe would love you to join us. \nFor more details contact Frank Roberts at swanagelanders@herstoncross.co.uk
URL:https://litter-freepurbeck.org.uk/event-calendar/swanage-landers-beach-buddies-2/2022-08-25/
LOCATION:Main Beach car park\, Victoria Avenue\, Swanage\, Dorset\, BH19 1AP\, United Kingdom
ATTACH;FMTTYPE=image/avif:https://litter-freepurbeck.org.uk/wp-content/uploads/2022/03/20220324_152221.avif
ORGANIZER;CN="Frank Roberts":MAILTO:swanagelanders@herstoncross.co.uk
END:VEVENT
BEGIN:VEVENT
DTSTART;TZID=Europe/London:20220823T180000
DTEND;TZID=Europe/London:20220823T193000
DTSTAMP:20260420T222841
CREATED:20220410T105309Z
LAST-MODIFIED:20220721T110313Z
UID:10000023-1661277600-1661283000@litter-freepurbeck.org.uk
SUMMARY:Swanage Beach Buddies
DESCRIPTION:We would welcome your support at our next sheduled beach clean. \nPlease contact us if you’d like to join in: swanagebeachbuddies@gmail.com or text to 07974 399887. \nCheers\nDave and Sally\n07974 399887
URL:https://litter-freepurbeck.org.uk/event-calendar/swanage-beach-buddies/2022-08-23/
LOCATION:Litter-Free Purbeck Beach Hut\, Shore Road\, Swanage\, Dorset\, BH19 1LB\, United Kingdom
ATTACH;FMTTYPE=image/avif:https://litter-freepurbeck.org.uk/wp-content/uploads/2022/03/Swanage-Beach-Buddies-20th-March-2022.avif
ORGANIZER;CN="Dave and Sally Pratten":MAILTO:swanagebeachbuddies@gmail.com
END:VEVENT
BEGIN:VEVENT
DTSTART;TZID=Europe/London:20220821T090000
DTEND;TZID=Europe/London:20220821T103000
DTSTAMP:20260420T222841
CREATED:20220410T110046Z
LAST-MODIFIED:20240101T112309Z
UID:10000047-1661072400-1661077800@litter-freepurbeck.org.uk
SUMMARY:Swanage Beach Buddies
DESCRIPTION:We would welcome your support at our next sheduled beach clean. \nPlease contact us if you’d like to join in: swanagebeachbuddies@gmail.com or text to 07974 399887. \nCheers\nDave and Sally\n07974 399887
URL:https://litter-freepurbeck.org.uk/event-calendar/swanage-beach-buddies-2/2022-08-21/
LOCATION:Litter-Free Purbeck Beach Hut\, Shore Road\, Swanage\, Dorset\, BH19 1LB\, United Kingdom
ATTACH;FMTTYPE=image/avif:https://litter-freepurbeck.org.uk/wp-content/uploads/2022/03/Swanage-Beach-Buddies-20th-March-2022.avif
ORGANIZER;CN="Dave and Sally Pratten":MAILTO:swanagebeachbuddies@gmail.com
END:VEVENT
BEGIN:VEVENT
DTSTART;TZID=Europe/London:20220816T180000
DTEND;TZID=Europe/London:20220816T193000
DTSTAMP:20260420T222841
CREATED:20220410T105309Z
LAST-MODIFIED:20220721T110313Z
UID:10000022-1660672800-1660678200@litter-freepurbeck.org.uk
SUMMARY:Swanage Beach Buddies
DESCRIPTION:We would welcome your support at our next sheduled beach clean. \nPlease contact us if you’d like to join in: swanagebeachbuddies@gmail.com or text to 07974 399887. \nCheers\nDave and Sally\n07974 399887
URL:https://litter-freepurbeck.org.uk/event-calendar/swanage-beach-buddies/2022-08-16/
LOCATION:Litter-Free Purbeck Beach Hut\, Shore Road\, Swanage\, Dorset\, BH19 1LB\, United Kingdom
ATTACH;FMTTYPE=image/avif:https://litter-freepurbeck.org.uk/wp-content/uploads/2022/03/Swanage-Beach-Buddies-20th-March-2022.avif
ORGANIZER;CN="Dave and Sally Pratten":MAILTO:swanagebeachbuddies@gmail.com
END:VEVENT
BEGIN:VEVENT
DTSTART;TZID=Europe/London:20220814T090000
DTEND;TZID=Europe/London:20220814T103000
DTSTAMP:20260420T222841
CREATED:20220410T110046Z
LAST-MODIFIED:20240101T112309Z
UID:10000046-1660467600-1660473000@litter-freepurbeck.org.uk
SUMMARY:Swanage Beach Buddies
DESCRIPTION:We would welcome your support at our next sheduled beach clean. \nPlease contact us if you’d like to join in: swanagebeachbuddies@gmail.com or text to 07974 399887. \nCheers\nDave and Sally\n07974 399887
URL:https://litter-freepurbeck.org.uk/event-calendar/swanage-beach-buddies-2/2022-08-14/
LOCATION:Litter-Free Purbeck Beach Hut\, Shore Road\, Swanage\, Dorset\, BH19 1LB\, United Kingdom
ATTACH;FMTTYPE=image/avif:https://litter-freepurbeck.org.uk/wp-content/uploads/2022/03/Swanage-Beach-Buddies-20th-March-2022.avif
ORGANIZER;CN="Dave and Sally Pratten":MAILTO:swanagebeachbuddies@gmail.com
END:VEVENT
BEGIN:VEVENT
DTSTART;TZID=Europe/London:20220813T093000
DTEND;TZID=Europe/London:20220813T233000
DTSTAMP:20260420T222841
CREATED:20220410T174205Z
LAST-MODIFIED:20220904T123249Z
UID:10000077-1660383000-1660433400@litter-freepurbeck.org.uk
SUMMARY:Wareham Wombles
DESCRIPTION:Litter-pick from 09:30 -11:30 am\n\n\n\n\n\n\n\n\n\n\n\nWestport House (outside of)\n\nPlease register your attendance in advance at litterfreepurbeck@gmail.com
URL:https://litter-freepurbeck.org.uk/event-calendar/wareham-wombles/2022-08-13/
LOCATION:Westport House (outside of)\, Worgret Road\, Wareham\, Dorset\, BH20 4PP\, United Kingdom
ATTACH;FMTTYPE=image/avif:https://litter-freepurbeck.org.uk/wp-content/uploads/2022/04/Wareham-Wombles-14th-May-2022.avif
ORGANIZER;CN="Harold Forbes":MAILTO:litterfreepurbeck@gmail.com
END:VEVENT
BEGIN:VEVENT
DTSTART;TZID=Europe/London:20220811T140000
DTEND;TZID=Europe/London:20220811T153000
DTSTAMP:20260420T222841
CREATED:20220411T135204Z
LAST-MODIFIED:20220712T103459Z
UID:10000089-1660226400-1660231800@litter-freepurbeck.org.uk
SUMMARY:Swanage Landers & Beach Buddies
DESCRIPTION:Meet at the the Main Beach Car Park\, Victoria Avenue\, Swanage BH19 1AP. \nWe would love you to join us. \nFor more details contact Frank Roberts at swanagelanders@herstoncross.co.uk
URL:https://litter-freepurbeck.org.uk/event-calendar/swanage-landers-beach-buddies-2/2022-08-11/
LOCATION:Main Beach car park\, Victoria Avenue\, Swanage\, Dorset\, BH19 1AP\, United Kingdom
ATTACH;FMTTYPE=image/avif:https://litter-freepurbeck.org.uk/wp-content/uploads/2022/03/20220324_152221.avif
ORGANIZER;CN="Frank Roberts":MAILTO:swanagelanders@herstoncross.co.uk
END:VEVENT
BEGIN:VEVENT
DTSTART;TZID=Europe/London:20220809T180000
DTEND;TZID=Europe/London:20220809T193000
DTSTAMP:20260420T222841
CREATED:20220410T105309Z
LAST-MODIFIED:20220721T110313Z
UID:10000021-1660068000-1660073400@litter-freepurbeck.org.uk
SUMMARY:Swanage Beach Buddies
DESCRIPTION:We would welcome your support at our next sheduled beach clean. \nPlease contact us if you’d like to join in: swanagebeachbuddies@gmail.com or text to 07974 399887. \nCheers\nDave and Sally\n07974 399887
URL:https://litter-freepurbeck.org.uk/event-calendar/swanage-beach-buddies/2022-08-09/
LOCATION:Litter-Free Purbeck Beach Hut\, Shore Road\, Swanage\, Dorset\, BH19 1LB\, United Kingdom
ATTACH;FMTTYPE=image/avif:https://litter-freepurbeck.org.uk/wp-content/uploads/2022/03/Swanage-Beach-Buddies-20th-March-2022.avif
ORGANIZER;CN="Dave and Sally Pratten":MAILTO:swanagebeachbuddies@gmail.com
END:VEVENT
BEGIN:VEVENT
DTSTART;TZID=Europe/London:20220807T090000
DTEND;TZID=Europe/London:20220807T103000
DTSTAMP:20260420T222841
CREATED:20220410T110046Z
LAST-MODIFIED:20240101T112309Z
UID:10000045-1659862800-1659868200@litter-freepurbeck.org.uk
SUMMARY:Swanage Beach Buddies
DESCRIPTION:We would welcome your support at our next sheduled beach clean. \nPlease contact us if you’d like to join in: swanagebeachbuddies@gmail.com or text to 07974 399887. \nCheers\nDave and Sally\n07974 399887
URL:https://litter-freepurbeck.org.uk/event-calendar/swanage-beach-buddies-2/2022-08-07/
LOCATION:Litter-Free Purbeck Beach Hut\, Shore Road\, Swanage\, Dorset\, BH19 1LB\, United Kingdom
ATTACH;FMTTYPE=image/avif:https://litter-freepurbeck.org.uk/wp-content/uploads/2022/03/Swanage-Beach-Buddies-20th-March-2022.avif
ORGANIZER;CN="Dave and Sally Pratten":MAILTO:swanagebeachbuddies@gmail.com
END:VEVENT
END:VCALENDAR