BEGIN:VCALENDAR
VERSION:2.0
PRODID:-//Litter-free Purbeck - ECPv6.15.20//NONSGML v1.0//EN
CALSCALE:GREGORIAN
METHOD:PUBLISH
X-WR-CALNAME:Litter-free Purbeck
X-ORIGINAL-URL:https://litter-freepurbeck.org.uk
X-WR-CALDESC:Events for Litter-free Purbeck
REFRESH-INTERVAL;VALUE=DURATION:PT1H
X-Robots-Tag:noindex
X-PUBLISHED-TTL:PT1H
BEGIN:VTIMEZONE
TZID:Europe/London
BEGIN:DAYLIGHT
TZOFFSETFROM:+0000
TZOFFSETTO:+0100
TZNAME:BST
DTSTART:20220327T010000
END:DAYLIGHT
BEGIN:STANDARD
TZOFFSETFROM:+0100
TZOFFSETTO:+0000
TZNAME:GMT
DTSTART:20221030T010000
END:STANDARD
BEGIN:DAYLIGHT
TZOFFSETFROM:+0000
TZOFFSETTO:+0100
TZNAME:BST
DTSTART:20230326T010000
END:DAYLIGHT
BEGIN:STANDARD
TZOFFSETFROM:+0100
TZOFFSETTO:+0000
TZNAME:GMT
DTSTART:20231029T010000
END:STANDARD
BEGIN:DAYLIGHT
TZOFFSETFROM:+0000
TZOFFSETTO:+0100
TZNAME:BST
DTSTART:20240331T010000
END:DAYLIGHT
BEGIN:STANDARD
TZOFFSETFROM:+0100
TZOFFSETTO:+0000
TZNAME:GMT
DTSTART:20241027T010000
END:STANDARD
END:VTIMEZONE
BEGIN:VEVENT
DTSTART;TZID=Europe/London:20230507T150000
DTEND;TZID=Europe/London:20230507T160000
DTSTAMP:20260421T060719
CREATED:20230502T101815Z
LAST-MODIFIED:20230502T101815Z
UID:10000496-1683471600-1683475200@litter-freepurbeck.org.uk
SUMMARY:Clean Up Corfe - Post Coronation Litter Pick
DESCRIPTION:We have been asked if we would contribute to the village’s Coronation celebrations by doing a litter pick after the Coronation “Big Lunch” in the grounds of Corfe Castle.\n\nSo we will be picking on Sunday 7th May\, meeting at 3pm by the entrance to the castle\, with the litter pick finishing by 4pm at the latest\, possibly earlier depending on the amount of litter to collect.\n \nHi-vi vests\, bags and litter pickers will be provided\, but you might like to bring along a pair of gloves to protect your hands!
URL:https://litter-freepurbeck.org.uk/event-calendar/clean-up-corfe-post-coronation-litter-pick/
LOCATION:Corfe Castle Entrance\, The Square\, Corfe Castle\, Wareham\, Dorset\, BH20 5EZ\, United Kingdom
ATTACH;FMTTYPE=image/avif:https://litter-freepurbeck.org.uk/wp-content/uploads/2022/05/IMG_0842-copy.avif
ORGANIZER;CN="Kevin Culbert":MAILTO:kevin.culbert@btinternet.com
END:VEVENT
BEGIN:VEVENT
DTSTART;TZID=Europe/London:20230507T090000
DTEND;TZID=Europe/London:20230507T103000
DTSTAMP:20260421T060719
CREATED:20220410T110046Z
LAST-MODIFIED:20240101T112309Z
UID:10000120-1683450000-1683455400@litter-freepurbeck.org.uk
SUMMARY:Swanage Beach Buddies
DESCRIPTION:We would welcome your support at our next sheduled beach clean. \nPlease contact us if you’d like to join in: swanagebeachbuddies@gmail.com or text to 07974 399887. \nCheers\nDave and Sally\n07974 399887
URL:https://litter-freepurbeck.org.uk/event-calendar/swanage-beach-buddies-2/2023-05-07/
LOCATION:Litter-Free Purbeck Beach Hut\, Shore Road\, Swanage\, Dorset\, BH19 1LB\, United Kingdom
ATTACH;FMTTYPE=image/avif:https://litter-freepurbeck.org.uk/wp-content/uploads/2022/03/Swanage-Beach-Buddies-20th-March-2022.avif
ORGANIZER;CN="Dave and Sally Pratten":MAILTO:swanagebeachbuddies@gmail.com
END:VEVENT
BEGIN:VEVENT
DTSTART;TZID=Europe/London:20230502T180000
DTEND;TZID=Europe/London:20230502T193000
DTSTAMP:20260421T060719
CREATED:20230328T173251Z
LAST-MODIFIED:20230328T173508Z
UID:10000474-1683050400-1683055800@litter-freepurbeck.org.uk
SUMMARY:Swanage Beach Buddies - Tuesday Beach Clean
DESCRIPTION:We would welcome your support at our next sheduled beach clean. \nPlease contact us if you’d like to join in: swanagebeachbuddies@gmail.com or text to 07974 399887. \nCheers\nDave and Sally\n07974 399887
URL:https://litter-freepurbeck.org.uk/event-calendar/swanage-beach-buddies-tuesday-beach-clean-2/2023-05-02/
LOCATION:Litter-Free Purbeck Beach Hut\, Shore Road\, Swanage\, Dorset\, BH19 1LB\, United Kingdom
ATTACH;FMTTYPE=image/jpeg:https://litter-freepurbeck.org.uk/wp-content/uploads/2021/09/5th-September-2021.jpg
ORGANIZER;CN="Dave and Sally Pratten":MAILTO:swanagebeachbuddies@gmail.com
END:VEVENT
BEGIN:VEVENT
DTSTART;TZID=Europe/London:20230430T090000
DTEND;TZID=Europe/London:20230430T103000
DTSTAMP:20260421T060719
CREATED:20220410T110046Z
LAST-MODIFIED:20240101T112309Z
UID:10000119-1682845200-1682850600@litter-freepurbeck.org.uk
SUMMARY:Swanage Beach Buddies
DESCRIPTION:We would welcome your support at our next sheduled beach clean. \nPlease contact us if you’d like to join in: swanagebeachbuddies@gmail.com or text to 07974 399887. \nCheers\nDave and Sally\n07974 399887
URL:https://litter-freepurbeck.org.uk/event-calendar/swanage-beach-buddies-2/2023-04-30/
LOCATION:Litter-Free Purbeck Beach Hut\, Shore Road\, Swanage\, Dorset\, BH19 1LB\, United Kingdom
ATTACH;FMTTYPE=image/avif:https://litter-freepurbeck.org.uk/wp-content/uploads/2022/03/Swanage-Beach-Buddies-20th-March-2022.avif
ORGANIZER;CN="Dave and Sally Pratten":MAILTO:swanagebeachbuddies@gmail.com
END:VEVENT
BEGIN:VEVENT
DTSTART;TZID=Europe/London:20230425T180000
DTEND;TZID=Europe/London:20230425T193000
DTSTAMP:20260421T060719
CREATED:20230328T173251Z
LAST-MODIFIED:20230328T173508Z
UID:10000473-1682445600-1682451000@litter-freepurbeck.org.uk
SUMMARY:Swanage Beach Buddies - Tuesday Beach Clean
DESCRIPTION:We would welcome your support at our next sheduled beach clean. \nPlease contact us if you’d like to join in: swanagebeachbuddies@gmail.com or text to 07974 399887. \nCheers\nDave and Sally\n07974 399887
URL:https://litter-freepurbeck.org.uk/event-calendar/swanage-beach-buddies-tuesday-beach-clean-2/2023-04-25/
LOCATION:Litter-Free Purbeck Beach Hut\, Shore Road\, Swanage\, Dorset\, BH19 1LB\, United Kingdom
ATTACH;FMTTYPE=image/jpeg:https://litter-freepurbeck.org.uk/wp-content/uploads/2021/09/5th-September-2021.jpg
ORGANIZER;CN="Dave and Sally Pratten":MAILTO:swanagebeachbuddies@gmail.com
END:VEVENT
BEGIN:VEVENT
DTSTART;TZID=Europe/London:20230423T090000
DTEND;TZID=Europe/London:20230423T103000
DTSTAMP:20260421T060719
CREATED:20220410T110046Z
LAST-MODIFIED:20240101T112309Z
UID:10000118-1682240400-1682245800@litter-freepurbeck.org.uk
SUMMARY:Swanage Beach Buddies
DESCRIPTION:We would welcome your support at our next sheduled beach clean. \nPlease contact us if you’d like to join in: swanagebeachbuddies@gmail.com or text to 07974 399887. \nCheers\nDave and Sally\n07974 399887
URL:https://litter-freepurbeck.org.uk/event-calendar/swanage-beach-buddies-2/2023-04-23/
LOCATION:Litter-Free Purbeck Beach Hut\, Shore Road\, Swanage\, Dorset\, BH19 1LB\, United Kingdom
ATTACH;FMTTYPE=image/avif:https://litter-freepurbeck.org.uk/wp-content/uploads/2022/03/Swanage-Beach-Buddies-20th-March-2022.avif
ORGANIZER;CN="Dave and Sally Pratten":MAILTO:swanagebeachbuddies@gmail.com
END:VEVENT
BEGIN:VEVENT
DTSTART;TZID=Europe/London:20230418T180000
DTEND;TZID=Europe/London:20230418T193000
DTSTAMP:20260421T060719
CREATED:20230328T173251Z
LAST-MODIFIED:20230328T173508Z
UID:10000472-1681840800-1681846200@litter-freepurbeck.org.uk
SUMMARY:Swanage Beach Buddies - Tuesday Beach Clean
DESCRIPTION:We would welcome your support at our next sheduled beach clean. \nPlease contact us if you’d like to join in: swanagebeachbuddies@gmail.com or text to 07974 399887. \nCheers\nDave and Sally\n07974 399887
URL:https://litter-freepurbeck.org.uk/event-calendar/swanage-beach-buddies-tuesday-beach-clean-2/2023-04-18/
LOCATION:Litter-Free Purbeck Beach Hut\, Shore Road\, Swanage\, Dorset\, BH19 1LB\, United Kingdom
ATTACH;FMTTYPE=image/jpeg:https://litter-freepurbeck.org.uk/wp-content/uploads/2021/09/5th-September-2021.jpg
ORGANIZER;CN="Dave and Sally Pratten":MAILTO:swanagebeachbuddies@gmail.com
END:VEVENT
BEGIN:VEVENT
DTSTART;TZID=Europe/London:20230416T090000
DTEND;TZID=Europe/London:20230416T103000
DTSTAMP:20260421T060719
CREATED:20220410T110046Z
LAST-MODIFIED:20240101T112309Z
UID:10000117-1681635600-1681641000@litter-freepurbeck.org.uk
SUMMARY:Swanage Beach Buddies
DESCRIPTION:We would welcome your support at our next sheduled beach clean. \nPlease contact us if you’d like to join in: swanagebeachbuddies@gmail.com or text to 07974 399887. \nCheers\nDave and Sally\n07974 399887
URL:https://litter-freepurbeck.org.uk/event-calendar/swanage-beach-buddies-2/2023-04-16/
LOCATION:Litter-Free Purbeck Beach Hut\, Shore Road\, Swanage\, Dorset\, BH19 1LB\, United Kingdom
ATTACH;FMTTYPE=image/avif:https://litter-freepurbeck.org.uk/wp-content/uploads/2022/03/Swanage-Beach-Buddies-20th-March-2022.avif
ORGANIZER;CN="Dave and Sally Pratten":MAILTO:swanagebeachbuddies@gmail.com
END:VEVENT
BEGIN:VEVENT
DTSTART;TZID=Europe/London:20230409T090000
DTEND;TZID=Europe/London:20230409T103000
DTSTAMP:20260421T060719
CREATED:20220410T110046Z
LAST-MODIFIED:20240101T112309Z
UID:10000116-1681030800-1681036200@litter-freepurbeck.org.uk
SUMMARY:Swanage Beach Buddies
DESCRIPTION:We would welcome your support at our next sheduled beach clean. \nPlease contact us if you’d like to join in: swanagebeachbuddies@gmail.com or text to 07974 399887. \nCheers\nDave and Sally\n07974 399887
URL:https://litter-freepurbeck.org.uk/event-calendar/swanage-beach-buddies-2/2023-04-09/
LOCATION:Litter-Free Purbeck Beach Hut\, Shore Road\, Swanage\, Dorset\, BH19 1LB\, United Kingdom
ATTACH;FMTTYPE=image/avif:https://litter-freepurbeck.org.uk/wp-content/uploads/2022/03/Swanage-Beach-Buddies-20th-March-2022.avif
ORGANIZER;CN="Dave and Sally Pratten":MAILTO:swanagebeachbuddies@gmail.com
END:VEVENT
BEGIN:VEVENT
DTSTART;TZID=Europe/London:20230408T093000
DTEND;TZID=Europe/London:20230408T113000
DTSTAMP:20260421T060719
CREATED:20230103T200138Z
LAST-MODIFIED:20230325T194214Z
UID:10000180-1680946200-1680953400@litter-freepurbeck.org.uk
SUMMARY:Wareham Wombles
DESCRIPTION:Litter-pick from 09:30 -11:30 am\n\n\n\n\n\n\n\n\n\n\n\nWestport House (outside of)\n\nPlease register your attendance in advance at litterfreepurbeck@gmail.com
URL:https://litter-freepurbeck.org.uk/event-calendar/wareham-wombles-2023-onwards/2023-04-08/
LOCATION:Westport House (outside of)\, Worgret Road\, Wareham\, Dorset\, BH20 4PP\, United Kingdom
ATTACH;FMTTYPE=image/avif:https://litter-freepurbeck.org.uk/wp-content/uploads/2022/12/Wareham-Wombles-14th-May-2022.avif
END:VEVENT
BEGIN:VEVENT
DTSTART;TZID=Europe/London:20230402T090000
DTEND;TZID=Europe/London:20230402T103000
DTSTAMP:20260421T060719
CREATED:20220410T110046Z
LAST-MODIFIED:20240101T112309Z
UID:10000115-1680426000-1680431400@litter-freepurbeck.org.uk
SUMMARY:Swanage Beach Buddies
DESCRIPTION:We would welcome your support at our next sheduled beach clean. \nPlease contact us if you’d like to join in: swanagebeachbuddies@gmail.com or text to 07974 399887. \nCheers\nDave and Sally\n07974 399887
URL:https://litter-freepurbeck.org.uk/event-calendar/swanage-beach-buddies-2/2023-04-02/
LOCATION:Litter-Free Purbeck Beach Hut\, Shore Road\, Swanage\, Dorset\, BH19 1LB\, United Kingdom
ATTACH;FMTTYPE=image/avif:https://litter-freepurbeck.org.uk/wp-content/uploads/2022/03/Swanage-Beach-Buddies-20th-March-2022.avif
ORGANIZER;CN="Dave and Sally Pratten":MAILTO:swanagebeachbuddies@gmail.com
END:VEVENT
BEGIN:VEVENT
DTSTART;TZID=Europe/London:20230401T093000
DTEND;TZID=Europe/London:20230401T120000
DTSTAMP:20260421T060719
CREATED:20230324T094357Z
LAST-MODIFIED:20230324T094357Z
UID:10000199-1680341400-1680350400@litter-freepurbeck.org.uk
SUMMARY:Love Langton's Spring Litter Pick
DESCRIPTION:As well as the village centre\, our litter picks cover the many footpaths across the surrounding countryside\, including coastal ones and the well known beauty spot\, Dancing Ledge\, an old cliff-side stone quarry. So\, as with many of the L-FP litter picks\, you take in a lot of the beautiful countryside and coastal views here while beautifying it further by removing rubbish. Some of our volunteers go out at other times that work for them to concentrate on particular grot spots.  \nWe will be finished by noon at the latest\, depending on our routes.
URL:https://litter-freepurbeck.org.uk/event-calendar/love-langtons-spring-litter-pick/
LOCATION:St. George’s Close\, by the Church\, St. George’s Close\, Langton Matravers\, Dorset\, BH19 3HA\, United Kingdom
ATTACH;FMTTYPE=image/avif:https://litter-freepurbeck.org.uk/wp-content/uploads/2023/03/180323CathyaboveDncngLdge.avif
ORGANIZER;CN="Bridget Mayes":MAILTO:lovelangton@gmail.com
END:VEVENT
BEGIN:VEVENT
DTSTART;TZID=Europe/London:20230401T090000
DTEND;TZID=Europe/London:20230401T103000
DTSTAMP:20260421T060719
CREATED:20230127T105656Z
LAST-MODIFIED:20230224T194400Z
UID:10000195-1680339600-1680345000@litter-freepurbeck.org.uk
SUMMARY:Clean Up Corfe litter pick
DESCRIPTION:If you are free to join us\, let’s meet at 9am by the cross in The Square.  Please keep your eyes peeled as you move around the village / parish\, so you can let us know if there are any litter hotspots we ought to address then.\n \nIf possible\, please let myself / Kevin know if you are able to join us so we can make sure we have enough litter pickers and vests\, but please do join us even if you only know at the last minute!\n \nMy number is 07767 644947 or Kevin is on 07521 559877.\n \nCheers Helen (and Kevin)\nCo-ordinators of Clean Up Corfe.
URL:https://litter-freepurbeck.org.uk/event-calendar/clean-up-corfe-litter-pick-2/2023-04-01/
LOCATION:Dorset
ATTACH;FMTTYPE=image/avif:https://litter-freepurbeck.org.uk/wp-content/uploads/2022/05/IMG_0842-copy.avif
ORGANIZER;CN="Kevin Culbert":MAILTO:kevin.culbert@btinternet.com
END:VEVENT
BEGIN:VEVENT
DTSTART;TZID=Europe/London:20230326T090000
DTEND;TZID=Europe/London:20230326T103000
DTSTAMP:20260421T060719
CREATED:20220410T110046Z
LAST-MODIFIED:20240101T112309Z
UID:10000114-1679821200-1679826600@litter-freepurbeck.org.uk
SUMMARY:Swanage Beach Buddies
DESCRIPTION:We would welcome your support at our next sheduled beach clean. \nPlease contact us if you’d like to join in: swanagebeachbuddies@gmail.com or text to 07974 399887. \nCheers\nDave and Sally\n07974 399887
URL:https://litter-freepurbeck.org.uk/event-calendar/swanage-beach-buddies-2/2023-03-26/
LOCATION:Litter-Free Purbeck Beach Hut\, Shore Road\, Swanage\, Dorset\, BH19 1LB\, United Kingdom
ATTACH;FMTTYPE=image/avif:https://litter-freepurbeck.org.uk/wp-content/uploads/2022/03/Swanage-Beach-Buddies-20th-March-2022.avif
ORGANIZER;CN="Dave and Sally Pratten":MAILTO:swanagebeachbuddies@gmail.com
END:VEVENT
BEGIN:VEVENT
DTSTART;TZID=Europe/London:20230319T090000
DTEND;TZID=Europe/London:20230319T103000
DTSTAMP:20260421T060719
CREATED:20220410T110046Z
LAST-MODIFIED:20240101T112309Z
UID:10000113-1679216400-1679221800@litter-freepurbeck.org.uk
SUMMARY:Swanage Beach Buddies
DESCRIPTION:We would welcome your support at our next sheduled beach clean. \nPlease contact us if you’d like to join in: swanagebeachbuddies@gmail.com or text to 07974 399887. \nCheers\nDave and Sally\n07974 399887
URL:https://litter-freepurbeck.org.uk/event-calendar/swanage-beach-buddies-2/2023-03-19/
LOCATION:Litter-Free Purbeck Beach Hut\, Shore Road\, Swanage\, Dorset\, BH19 1LB\, United Kingdom
ATTACH;FMTTYPE=image/avif:https://litter-freepurbeck.org.uk/wp-content/uploads/2022/03/Swanage-Beach-Buddies-20th-March-2022.avif
ORGANIZER;CN="Dave and Sally Pratten":MAILTO:swanagebeachbuddies@gmail.com
END:VEVENT
BEGIN:VEVENT
DTSTART;TZID=Europe/London:20230318T093000
DTEND;TZID=Europe/London:20230318T113000
DTSTAMP:20260421T060719
CREATED:20230306T120028Z
LAST-MODIFIED:20230306T120028Z
UID:10000196-1679131800-1679139000@litter-freepurbeck.org.uk
SUMMARY:Wareham Wombles - Sandford Litter Pick
DESCRIPTION:Litter Pick on Saturday 18th March at 9.30 am\, Sandford Community Centre\, bottom of Keysworth Drive\, BH20 7BD. Contact litterfreepurbeck@gmail.com \n 
URL:https://litter-freepurbeck.org.uk/event-calendar/wareham-wombles-sandford-litter-pick/
LOCATION:Sandford Community Centre\, bottom of Keysworth Drive\, BH20 7BD.\, Sandford Community Centre\, bottom of Keysworth Drive\, BH20 7BD.\, Sandford\, Dorset\, BH20 7BD\, United Kingdom
ATTACH;FMTTYPE=image/avif:https://litter-freepurbeck.org.uk/wp-content/uploads/2020/01/Wareham-Wombles20200118-1.avif
ORGANIZER;CN="Harold Forbes":MAILTO:litterfreepurbeck@gmail.com
END:VEVENT
BEGIN:VEVENT
DTSTART;TZID=Europe/London:20230318T090000
DTEND;TZID=Europe/London:20230318T100000
DTSTAMP:20260421T060719
CREATED:20230306T174202Z
LAST-MODIFIED:20230306T181339Z
UID:10000197-1679130000-1679133600@litter-freepurbeck.org.uk
SUMMARY:Trash 2 Go - Litter Pick at St. Mary's Church\, East Stoke
DESCRIPTION:All welcome.
URL:https://litter-freepurbeck.org.uk/event-calendar/trash-2-go-litter-pick-at-st-marys-church-east-stoke/
LOCATION:St. Mary’s Church East Stoke\, Wareham Road\, East Stoke\, Dorset\, BH20 6AN\, United Kingdom
ATTACH;FMTTYPE=image/avif:https://litter-freepurbeck.org.uk/wp-content/uploads/2023/03/Roadside-Litter.avif
ORGANIZER;CN="Simon Cragg":MAILTO:phoenix60@live.co.uk
END:VEVENT
BEGIN:VEVENT
DTSTART;TZID=Europe/London:20230312T090000
DTEND;TZID=Europe/London:20230312T103000
DTSTAMP:20260421T060719
CREATED:20220410T110046Z
LAST-MODIFIED:20240101T112309Z
UID:10000112-1678611600-1678617000@litter-freepurbeck.org.uk
SUMMARY:Swanage Beach Buddies
DESCRIPTION:We would welcome your support at our next sheduled beach clean. \nPlease contact us if you’d like to join in: swanagebeachbuddies@gmail.com or text to 07974 399887. \nCheers\nDave and Sally\n07974 399887
URL:https://litter-freepurbeck.org.uk/event-calendar/swanage-beach-buddies-2/2023-03-12/
LOCATION:Litter-Free Purbeck Beach Hut\, Shore Road\, Swanage\, Dorset\, BH19 1LB\, United Kingdom
ATTACH;FMTTYPE=image/avif:https://litter-freepurbeck.org.uk/wp-content/uploads/2022/03/Swanage-Beach-Buddies-20th-March-2022.avif
ORGANIZER;CN="Dave and Sally Pratten":MAILTO:swanagebeachbuddies@gmail.com
END:VEVENT
BEGIN:VEVENT
DTSTART;TZID=Europe/London:20230311T093000
DTEND;TZID=Europe/London:20230311T113000
DTSTAMP:20260421T060719
CREATED:20230103T200138Z
LAST-MODIFIED:20230325T194214Z
UID:10000179-1678527000-1678534200@litter-freepurbeck.org.uk
SUMMARY:Wareham Wombles
DESCRIPTION:Litter-pick from 09:30 -11:30 am\n\n\n\n\n\n\n\n\n\n\n\nWestport House (outside of)\n\nPlease register your attendance in advance at litterfreepurbeck@gmail.com
URL:https://litter-freepurbeck.org.uk/event-calendar/wareham-wombles-2023-onwards/2023-03-11/
LOCATION:Westport House (outside of)\, Worgret Road\, Wareham\, Dorset\, BH20 4PP\, United Kingdom
ATTACH;FMTTYPE=image/avif:https://litter-freepurbeck.org.uk/wp-content/uploads/2022/12/Wareham-Wombles-14th-May-2022.avif
END:VEVENT
BEGIN:VEVENT
DTSTART;TZID=Europe/London:20230305T090000
DTEND;TZID=Europe/London:20230305T103000
DTSTAMP:20260421T060719
CREATED:20220410T110046Z
LAST-MODIFIED:20240101T112309Z
UID:10000111-1678006800-1678012200@litter-freepurbeck.org.uk
SUMMARY:Swanage Beach Buddies
DESCRIPTION:We would welcome your support at our next sheduled beach clean. \nPlease contact us if you’d like to join in: swanagebeachbuddies@gmail.com or text to 07974 399887. \nCheers\nDave and Sally\n07974 399887
URL:https://litter-freepurbeck.org.uk/event-calendar/swanage-beach-buddies-2/2023-03-05/
LOCATION:Litter-Free Purbeck Beach Hut\, Shore Road\, Swanage\, Dorset\, BH19 1LB\, United Kingdom
ATTACH;FMTTYPE=image/avif:https://litter-freepurbeck.org.uk/wp-content/uploads/2022/03/Swanage-Beach-Buddies-20th-March-2022.avif
ORGANIZER;CN="Dave and Sally Pratten":MAILTO:swanagebeachbuddies@gmail.com
END:VEVENT
BEGIN:VEVENT
DTSTART;TZID=Europe/London:20230304T090000
DTEND;TZID=Europe/London:20230304T103000
DTSTAMP:20260421T060719
CREATED:20230127T105656Z
LAST-MODIFIED:20230224T194400Z
UID:10000194-1677920400-1677925800@litter-freepurbeck.org.uk
SUMMARY:Clean Up Corfe litter pick
DESCRIPTION:If you are free to join us\, let’s meet at 9am by the cross in The Square.  Please keep your eyes peeled as you move around the village / parish\, so you can let us know if there are any litter hotspots we ought to address then.\n \nIf possible\, please let myself / Kevin know if you are able to join us so we can make sure we have enough litter pickers and vests\, but please do join us even if you only know at the last minute!\n \nMy number is 07767 644947 or Kevin is on 07521 559877.\n \nCheers Helen (and Kevin)\nCo-ordinators of Clean Up Corfe.
URL:https://litter-freepurbeck.org.uk/event-calendar/clean-up-corfe-litter-pick-2/2023-03-04/
LOCATION:Dorset
ATTACH;FMTTYPE=image/avif:https://litter-freepurbeck.org.uk/wp-content/uploads/2022/05/IMG_0842-copy.avif
ORGANIZER;CN="Kevin Culbert":MAILTO:kevin.culbert@btinternet.com
END:VEVENT
BEGIN:VEVENT
DTSTART;TZID=Europe/London:20230226T090000
DTEND;TZID=Europe/London:20230226T103000
DTSTAMP:20260421T060719
CREATED:20220410T110046Z
LAST-MODIFIED:20240101T112309Z
UID:10000110-1677402000-1677407400@litter-freepurbeck.org.uk
SUMMARY:Swanage Beach Buddies
DESCRIPTION:We would welcome your support at our next sheduled beach clean. \nPlease contact us if you’d like to join in: swanagebeachbuddies@gmail.com or text to 07974 399887. \nCheers\nDave and Sally\n07974 399887
URL:https://litter-freepurbeck.org.uk/event-calendar/swanage-beach-buddies-2/2023-02-26/
LOCATION:Litter-Free Purbeck Beach Hut\, Shore Road\, Swanage\, Dorset\, BH19 1LB\, United Kingdom
ATTACH;FMTTYPE=image/avif:https://litter-freepurbeck.org.uk/wp-content/uploads/2022/03/Swanage-Beach-Buddies-20th-March-2022.avif
ORGANIZER;CN="Dave and Sally Pratten":MAILTO:swanagebeachbuddies@gmail.com
END:VEVENT
BEGIN:VEVENT
DTSTART;TZID=Europe/London:20230219T090000
DTEND;TZID=Europe/London:20230219T103000
DTSTAMP:20260421T060719
CREATED:20220410T110046Z
LAST-MODIFIED:20240101T112309Z
UID:10000109-1676797200-1676802600@litter-freepurbeck.org.uk
SUMMARY:Swanage Beach Buddies
DESCRIPTION:We would welcome your support at our next sheduled beach clean. \nPlease contact us if you’d like to join in: swanagebeachbuddies@gmail.com or text to 07974 399887. \nCheers\nDave and Sally\n07974 399887
URL:https://litter-freepurbeck.org.uk/event-calendar/swanage-beach-buddies-2/2023-02-19/
LOCATION:Litter-Free Purbeck Beach Hut\, Shore Road\, Swanage\, Dorset\, BH19 1LB\, United Kingdom
ATTACH;FMTTYPE=image/avif:https://litter-freepurbeck.org.uk/wp-content/uploads/2022/03/Swanage-Beach-Buddies-20th-March-2022.avif
ORGANIZER;CN="Dave and Sally Pratten":MAILTO:swanagebeachbuddies@gmail.com
END:VEVENT
BEGIN:VEVENT
DTSTART;TZID=Europe/London:20230212T090000
DTEND;TZID=Europe/London:20230212T103000
DTSTAMP:20260421T060719
CREATED:20220410T110046Z
LAST-MODIFIED:20240101T112309Z
UID:10000108-1676192400-1676197800@litter-freepurbeck.org.uk
SUMMARY:Swanage Beach Buddies
DESCRIPTION:We would welcome your support at our next sheduled beach clean. \nPlease contact us if you’d like to join in: swanagebeachbuddies@gmail.com or text to 07974 399887. \nCheers\nDave and Sally\n07974 399887
URL:https://litter-freepurbeck.org.uk/event-calendar/swanage-beach-buddies-2/2023-02-12/
LOCATION:Litter-Free Purbeck Beach Hut\, Shore Road\, Swanage\, Dorset\, BH19 1LB\, United Kingdom
ATTACH;FMTTYPE=image/avif:https://litter-freepurbeck.org.uk/wp-content/uploads/2022/03/Swanage-Beach-Buddies-20th-March-2022.avif
ORGANIZER;CN="Dave and Sally Pratten":MAILTO:swanagebeachbuddies@gmail.com
END:VEVENT
BEGIN:VEVENT
DTSTART;TZID=Europe/London:20230211T093000
DTEND;TZID=Europe/London:20230211T113000
DTSTAMP:20260421T060719
CREATED:20230103T200138Z
LAST-MODIFIED:20230325T194214Z
UID:10000178-1676107800-1676115000@litter-freepurbeck.org.uk
SUMMARY:Wareham Wombles
DESCRIPTION:Litter-pick from 09:30 -11:30 am\n\n\n\n\n\n\n\n\n\n\n\nWestport House (outside of)\n\nPlease register your attendance in advance at litterfreepurbeck@gmail.com
URL:https://litter-freepurbeck.org.uk/event-calendar/wareham-wombles-2023-onwards/2023-02-11/
LOCATION:Westport House (outside of)\, Worgret Road\, Wareham\, Dorset\, BH20 4PP\, United Kingdom
ATTACH;FMTTYPE=image/avif:https://litter-freepurbeck.org.uk/wp-content/uploads/2022/12/Wareham-Wombles-14th-May-2022.avif
END:VEVENT
BEGIN:VEVENT
DTSTART;TZID=Europe/London:20230205T090000
DTEND;TZID=Europe/London:20230205T103000
DTSTAMP:20260421T060719
CREATED:20220410T110046Z
LAST-MODIFIED:20240101T112309Z
UID:10000107-1675587600-1675593000@litter-freepurbeck.org.uk
SUMMARY:Swanage Beach Buddies
DESCRIPTION:We would welcome your support at our next sheduled beach clean. \nPlease contact us if you’d like to join in: swanagebeachbuddies@gmail.com or text to 07974 399887. \nCheers\nDave and Sally\n07974 399887
URL:https://litter-freepurbeck.org.uk/event-calendar/swanage-beach-buddies-2/2023-02-05/
LOCATION:Litter-Free Purbeck Beach Hut\, Shore Road\, Swanage\, Dorset\, BH19 1LB\, United Kingdom
ATTACH;FMTTYPE=image/avif:https://litter-freepurbeck.org.uk/wp-content/uploads/2022/03/Swanage-Beach-Buddies-20th-March-2022.avif
ORGANIZER;CN="Dave and Sally Pratten":MAILTO:swanagebeachbuddies@gmail.com
END:VEVENT
BEGIN:VEVENT
DTSTART;TZID=Europe/London:20230204T090000
DTEND;TZID=Europe/London:20230204T103000
DTSTAMP:20260421T060719
CREATED:20230127T105656Z
LAST-MODIFIED:20230224T194400Z
UID:10000189-1675501200-1675506600@litter-freepurbeck.org.uk
SUMMARY:Clean Up Corfe litter pick
DESCRIPTION:If you are free to join us\, let’s meet at 9am by the cross in The Square.  Please keep your eyes peeled as you move around the village / parish\, so you can let us know if there are any litter hotspots we ought to address then.\n \nIf possible\, please let myself / Kevin know if you are able to join us so we can make sure we have enough litter pickers and vests\, but please do join us even if you only know at the last minute!\n \nMy number is 07767 644947 or Kevin is on 07521 559877.\n \nCheers Helen (and Kevin)\nCo-ordinators of Clean Up Corfe.
URL:https://litter-freepurbeck.org.uk/event-calendar/clean-up-corfe-litter-pick-2/2023-02-04/
LOCATION:Dorset
ATTACH;FMTTYPE=image/avif:https://litter-freepurbeck.org.uk/wp-content/uploads/2022/05/IMG_0842-copy.avif
ORGANIZER;CN="Kevin Culbert":MAILTO:kevin.culbert@btinternet.com
END:VEVENT
BEGIN:VEVENT
DTSTART;TZID=Europe/London:20230129T090000
DTEND;TZID=Europe/London:20230129T103000
DTSTAMP:20260421T060719
CREATED:20220410T110046Z
LAST-MODIFIED:20240101T112309Z
UID:10000106-1674982800-1674988200@litter-freepurbeck.org.uk
SUMMARY:Swanage Beach Buddies
DESCRIPTION:We would welcome your support at our next sheduled beach clean. \nPlease contact us if you’d like to join in: swanagebeachbuddies@gmail.com or text to 07974 399887. \nCheers\nDave and Sally\n07974 399887
URL:https://litter-freepurbeck.org.uk/event-calendar/swanage-beach-buddies-2/2023-01-29/
LOCATION:Litter-Free Purbeck Beach Hut\, Shore Road\, Swanage\, Dorset\, BH19 1LB\, United Kingdom
ATTACH;FMTTYPE=image/avif:https://litter-freepurbeck.org.uk/wp-content/uploads/2022/03/Swanage-Beach-Buddies-20th-March-2022.avif
ORGANIZER;CN="Dave and Sally Pratten":MAILTO:swanagebeachbuddies@gmail.com
END:VEVENT
BEGIN:VEVENT
DTSTART;TZID=Europe/London:20230122T090000
DTEND;TZID=Europe/London:20230122T103000
DTSTAMP:20260421T060719
CREATED:20220410T110046Z
LAST-MODIFIED:20240101T112309Z
UID:10000105-1674378000-1674383400@litter-freepurbeck.org.uk
SUMMARY:Swanage Beach Buddies
DESCRIPTION:We would welcome your support at our next sheduled beach clean. \nPlease contact us if you’d like to join in: swanagebeachbuddies@gmail.com or text to 07974 399887. \nCheers\nDave and Sally\n07974 399887
URL:https://litter-freepurbeck.org.uk/event-calendar/swanage-beach-buddies-2/2023-01-22/
LOCATION:Litter-Free Purbeck Beach Hut\, Shore Road\, Swanage\, Dorset\, BH19 1LB\, United Kingdom
ATTACH;FMTTYPE=image/avif:https://litter-freepurbeck.org.uk/wp-content/uploads/2022/03/Swanage-Beach-Buddies-20th-March-2022.avif
ORGANIZER;CN="Dave and Sally Pratten":MAILTO:swanagebeachbuddies@gmail.com
END:VEVENT
BEGIN:VEVENT
DTSTART;TZID=Europe/London:20230115T090000
DTEND;TZID=Europe/London:20230115T103000
DTSTAMP:20260421T060719
CREATED:20220410T110046Z
LAST-MODIFIED:20240101T112309Z
UID:10000104-1673773200-1673778600@litter-freepurbeck.org.uk
SUMMARY:Swanage Beach Buddies
DESCRIPTION:We would welcome your support at our next sheduled beach clean. \nPlease contact us if you’d like to join in: swanagebeachbuddies@gmail.com or text to 07974 399887. \nCheers\nDave and Sally\n07974 399887
URL:https://litter-freepurbeck.org.uk/event-calendar/swanage-beach-buddies-2/2023-01-15/
LOCATION:Litter-Free Purbeck Beach Hut\, Shore Road\, Swanage\, Dorset\, BH19 1LB\, United Kingdom
ATTACH;FMTTYPE=image/avif:https://litter-freepurbeck.org.uk/wp-content/uploads/2022/03/Swanage-Beach-Buddies-20th-March-2022.avif
ORGANIZER;CN="Dave and Sally Pratten":MAILTO:swanagebeachbuddies@gmail.com
END:VEVENT
END:VCALENDAR