BEGIN:VCALENDAR
VERSION:2.0
PRODID:-//Litter-free Purbeck - ECPv6.15.20//NONSGML v1.0//EN
CALSCALE:GREGORIAN
METHOD:PUBLISH
X-WR-CALNAME:Litter-free Purbeck
X-ORIGINAL-URL:https://litter-freepurbeck.org.uk
X-WR-CALDESC:Events for Litter-free Purbeck
REFRESH-INTERVAL;VALUE=DURATION:PT1H
X-Robots-Tag:noindex
X-PUBLISHED-TTL:PT1H
BEGIN:VTIMEZONE
TZID:Europe/London
BEGIN:DAYLIGHT
TZOFFSETFROM:+0000
TZOFFSETTO:+0100
TZNAME:BST
DTSTART:20210328T010000
END:DAYLIGHT
BEGIN:STANDARD
TZOFFSETFROM:+0100
TZOFFSETTO:+0000
TZNAME:GMT
DTSTART:20211031T010000
END:STANDARD
BEGIN:DAYLIGHT
TZOFFSETFROM:+0000
TZOFFSETTO:+0100
TZNAME:BST
DTSTART:20220327T010000
END:DAYLIGHT
BEGIN:STANDARD
TZOFFSETFROM:+0100
TZOFFSETTO:+0000
TZNAME:GMT
DTSTART:20221030T010000
END:STANDARD
BEGIN:DAYLIGHT
TZOFFSETFROM:+0000
TZOFFSETTO:+0100
TZNAME:BST
DTSTART:20230326T010000
END:DAYLIGHT
BEGIN:STANDARD
TZOFFSETFROM:+0100
TZOFFSETTO:+0000
TZNAME:GMT
DTSTART:20231029T010000
END:STANDARD
END:VTIMEZONE
BEGIN:VEVENT
DTSTART;TZID=Europe/London:20220717T090000
DTEND;TZID=Europe/London:20220717T103000
DTSTAMP:20260421T031412
CREATED:20220410T110046Z
LAST-MODIFIED:20240101T112309Z
UID:10000042-1658048400-1658053800@litter-freepurbeck.org.uk
SUMMARY:Swanage Beach Buddies
DESCRIPTION:We would welcome your support at our next sheduled beach clean. \nPlease contact us if you’d like to join in: swanagebeachbuddies@gmail.com or text to 07974 399887. \nCheers\nDave and Sally\n07974 399887
URL:https://litter-freepurbeck.org.uk/event-calendar/swanage-beach-buddies-2/2022-07-17/
LOCATION:Litter-Free Purbeck Beach Hut\, Shore Road\, Swanage\, Dorset\, BH19 1LB\, United Kingdom
ATTACH;FMTTYPE=image/avif:https://litter-freepurbeck.org.uk/wp-content/uploads/2022/03/Swanage-Beach-Buddies-20th-March-2022.avif
ORGANIZER;CN="Dave and Sally Pratten":MAILTO:swanagebeachbuddies@gmail.com
END:VEVENT
BEGIN:VEVENT
DTSTART;TZID=Europe/London:20220714T140000
DTEND;TZID=Europe/London:20220714T153000
DTSTAMP:20260421T031412
CREATED:20220411T135204Z
LAST-MODIFIED:20220712T103459Z
UID:10000087-1657807200-1657812600@litter-freepurbeck.org.uk
SUMMARY:Swanage Landers & Beach Buddies
DESCRIPTION:Meet at the the Main Beach Car Park\, Victoria Avenue\, Swanage BH19 1AP. \nWe would love you to join us. \nFor more details contact Frank Roberts at swanagelanders@herstoncross.co.uk
URL:https://litter-freepurbeck.org.uk/event-calendar/swanage-landers-beach-buddies-2/2022-07-14/
LOCATION:Main Beach car park\, Victoria Avenue\, Swanage\, Dorset\, BH19 1AP\, United Kingdom
ATTACH;FMTTYPE=image/avif:https://litter-freepurbeck.org.uk/wp-content/uploads/2022/03/20220324_152221.avif
ORGANIZER;CN="Frank Roberts":MAILTO:swanagelanders@herstoncross.co.uk
END:VEVENT
BEGIN:VEVENT
DTSTART;TZID=Europe/London:20220712T180000
DTEND;TZID=Europe/London:20220712T193000
DTSTAMP:20260421T031412
CREATED:20220410T105309Z
LAST-MODIFIED:20220721T110313Z
UID:10000018-1657648800-1657654200@litter-freepurbeck.org.uk
SUMMARY:Swanage Beach Buddies
DESCRIPTION:We would welcome your support at our next sheduled beach clean. \nPlease contact us if you’d like to join in: swanagebeachbuddies@gmail.com or text to 07974 399887. \nCheers\nDave and Sally\n07974 399887
URL:https://litter-freepurbeck.org.uk/event-calendar/swanage-beach-buddies/2022-07-12/
LOCATION:Litter-Free Purbeck Beach Hut\, Shore Road\, Swanage\, Dorset\, BH19 1LB\, United Kingdom
ATTACH;FMTTYPE=image/avif:https://litter-freepurbeck.org.uk/wp-content/uploads/2022/03/Swanage-Beach-Buddies-20th-March-2022.avif
ORGANIZER;CN="Dave and Sally Pratten":MAILTO:swanagebeachbuddies@gmail.com
END:VEVENT
BEGIN:VEVENT
DTSTART;TZID=Europe/London:20220710T090000
DTEND;TZID=Europe/London:20220710T103000
DTSTAMP:20260421T031412
CREATED:20220410T110046Z
LAST-MODIFIED:20240101T112309Z
UID:10000041-1657443600-1657449000@litter-freepurbeck.org.uk
SUMMARY:Swanage Beach Buddies
DESCRIPTION:We would welcome your support at our next sheduled beach clean. \nPlease contact us if you’d like to join in: swanagebeachbuddies@gmail.com or text to 07974 399887. \nCheers\nDave and Sally\n07974 399887
URL:https://litter-freepurbeck.org.uk/event-calendar/swanage-beach-buddies-2/2022-07-10/
LOCATION:Litter-Free Purbeck Beach Hut\, Shore Road\, Swanage\, Dorset\, BH19 1LB\, United Kingdom
ATTACH;FMTTYPE=image/avif:https://litter-freepurbeck.org.uk/wp-content/uploads/2022/03/Swanage-Beach-Buddies-20th-March-2022.avif
ORGANIZER;CN="Dave and Sally Pratten":MAILTO:swanagebeachbuddies@gmail.com
END:VEVENT
BEGIN:VEVENT
DTSTART;TZID=Europe/London:20220709T093000
DTEND;TZID=Europe/London:20220709T233000
DTSTAMP:20260421T031412
CREATED:20220410T174205Z
LAST-MODIFIED:20220904T123249Z
UID:10000076-1657359000-1657409400@litter-freepurbeck.org.uk
SUMMARY:Wareham Wombles
DESCRIPTION:Litter-pick from 09:30 -11:30 am\n\n\n\n\n\n\n\n\n\n\n\nWestport House (outside of)\n\nPlease register your attendance in advance at litterfreepurbeck@gmail.com
URL:https://litter-freepurbeck.org.uk/event-calendar/wareham-wombles/2022-07-09/
LOCATION:Westport House (outside of)\, Worgret Road\, Wareham\, Dorset\, BH20 4PP\, United Kingdom
ATTACH;FMTTYPE=image/avif:https://litter-freepurbeck.org.uk/wp-content/uploads/2022/04/Wareham-Wombles-14th-May-2022.avif
ORGANIZER;CN="Harold Forbes":MAILTO:litterfreepurbeck@gmail.com
END:VEVENT
BEGIN:VEVENT
DTSTART;TZID=Europe/London:20220705T180000
DTEND;TZID=Europe/London:20220705T193000
DTSTAMP:20260421T031412
CREATED:20220410T105309Z
LAST-MODIFIED:20220721T110313Z
UID:10000017-1657044000-1657049400@litter-freepurbeck.org.uk
SUMMARY:Swanage Beach Buddies
DESCRIPTION:We would welcome your support at our next sheduled beach clean. \nPlease contact us if you’d like to join in: swanagebeachbuddies@gmail.com or text to 07974 399887. \nCheers\nDave and Sally\n07974 399887
URL:https://litter-freepurbeck.org.uk/event-calendar/swanage-beach-buddies/2022-07-05/
LOCATION:Litter-Free Purbeck Beach Hut\, Shore Road\, Swanage\, Dorset\, BH19 1LB\, United Kingdom
ATTACH;FMTTYPE=image/avif:https://litter-freepurbeck.org.uk/wp-content/uploads/2022/03/Swanage-Beach-Buddies-20th-March-2022.avif
ORGANIZER;CN="Dave and Sally Pratten":MAILTO:swanagebeachbuddies@gmail.com
END:VEVENT
BEGIN:VEVENT
DTSTART;TZID=Europe/London:20220703T090000
DTEND;TZID=Europe/London:20220703T103000
DTSTAMP:20260421T031412
CREATED:20220410T110046Z
LAST-MODIFIED:20240101T112309Z
UID:10000040-1656838800-1656844200@litter-freepurbeck.org.uk
SUMMARY:Swanage Beach Buddies
DESCRIPTION:We would welcome your support at our next sheduled beach clean. \nPlease contact us if you’d like to join in: swanagebeachbuddies@gmail.com or text to 07974 399887. \nCheers\nDave and Sally\n07974 399887
URL:https://litter-freepurbeck.org.uk/event-calendar/swanage-beach-buddies-2/2022-07-03/
LOCATION:Litter-Free Purbeck Beach Hut\, Shore Road\, Swanage\, Dorset\, BH19 1LB\, United Kingdom
ATTACH;FMTTYPE=image/avif:https://litter-freepurbeck.org.uk/wp-content/uploads/2022/03/Swanage-Beach-Buddies-20th-March-2022.avif
ORGANIZER;CN="Dave and Sally Pratten":MAILTO:swanagebeachbuddies@gmail.com
END:VEVENT
BEGIN:VEVENT
DTSTART;TZID=Europe/London:20220630T140000
DTEND;TZID=Europe/London:20220630T153000
DTSTAMP:20260421T031412
CREATED:20220411T135204Z
LAST-MODIFIED:20220712T103459Z
UID:10000086-1656597600-1656603000@litter-freepurbeck.org.uk
SUMMARY:Swanage Landers & Beach Buddies
DESCRIPTION:Meet at the the Main Beach Car Park\, Victoria Avenue\, Swanage BH19 1AP. \nWe would love you to join us. \nFor more details contact Frank Roberts at swanagelanders@herstoncross.co.uk
URL:https://litter-freepurbeck.org.uk/event-calendar/swanage-landers-beach-buddies-2/2022-06-30/
LOCATION:Main Beach car park\, Victoria Avenue\, Swanage\, Dorset\, BH19 1AP\, United Kingdom
ATTACH;FMTTYPE=image/avif:https://litter-freepurbeck.org.uk/wp-content/uploads/2022/03/20220324_152221.avif
ORGANIZER;CN="Frank Roberts":MAILTO:swanagelanders@herstoncross.co.uk
END:VEVENT
BEGIN:VEVENT
DTSTART;TZID=Europe/London:20220628T180000
DTEND;TZID=Europe/London:20220628T193000
DTSTAMP:20260421T031412
CREATED:20220410T105309Z
LAST-MODIFIED:20220721T110313Z
UID:10000016-1656439200-1656444600@litter-freepurbeck.org.uk
SUMMARY:Swanage Beach Buddies
DESCRIPTION:We would welcome your support at our next sheduled beach clean. \nPlease contact us if you’d like to join in: swanagebeachbuddies@gmail.com or text to 07974 399887. \nCheers\nDave and Sally\n07974 399887
URL:https://litter-freepurbeck.org.uk/event-calendar/swanage-beach-buddies/2022-06-28/
LOCATION:Litter-Free Purbeck Beach Hut\, Shore Road\, Swanage\, Dorset\, BH19 1LB\, United Kingdom
ATTACH;FMTTYPE=image/avif:https://litter-freepurbeck.org.uk/wp-content/uploads/2022/03/Swanage-Beach-Buddies-20th-March-2022.avif
ORGANIZER;CN="Dave and Sally Pratten":MAILTO:swanagebeachbuddies@gmail.com
END:VEVENT
BEGIN:VEVENT
DTSTART;TZID=Europe/London:20220626T090000
DTEND;TZID=Europe/London:20220626T103000
DTSTAMP:20260421T031412
CREATED:20220410T110046Z
LAST-MODIFIED:20240101T112309Z
UID:10000039-1656234000-1656239400@litter-freepurbeck.org.uk
SUMMARY:Swanage Beach Buddies
DESCRIPTION:We would welcome your support at our next sheduled beach clean. \nPlease contact us if you’d like to join in: swanagebeachbuddies@gmail.com or text to 07974 399887. \nCheers\nDave and Sally\n07974 399887
URL:https://litter-freepurbeck.org.uk/event-calendar/swanage-beach-buddies-2/2022-06-26/
LOCATION:Litter-Free Purbeck Beach Hut\, Shore Road\, Swanage\, Dorset\, BH19 1LB\, United Kingdom
ATTACH;FMTTYPE=image/avif:https://litter-freepurbeck.org.uk/wp-content/uploads/2022/03/Swanage-Beach-Buddies-20th-March-2022.avif
ORGANIZER;CN="Dave and Sally Pratten":MAILTO:swanagebeachbuddies@gmail.com
END:VEVENT
BEGIN:VEVENT
DTSTART;TZID=Europe/London:20220625T091500
DTEND;TZID=Europe/London:20220625T103000
DTSTAMP:20260421T031412
CREATED:20220410T171935Z
LAST-MODIFIED:20220712T103659Z
UID:10000067-1656148500-1656153000@litter-freepurbeck.org.uk
SUMMARY:Swanage Landers
DESCRIPTION:Our next monthly litter-pick is at the Main Beach Car Park\, Victoria Avenue\, Swanage BH19 1AP. \nWe would love you to join us. \nFor more details contact Frank Roberts at swanagelanders@herstoncross.co.uk
URL:https://litter-freepurbeck.org.uk/event-calendar/swanage-landers/2022-06-25/
LOCATION:Main Beach car park\, Victoria Avenue\, Swanage\, Dorset\, BH19 1AP\, United Kingdom
ATTACH;FMTTYPE=image/avif:https://litter-freepurbeck.org.uk/wp-content/uploads/2021/06/SwanageLanders20190824.avif
ORGANIZER;CN="Frank Roberts":MAILTO:swanagelanders@herstoncross.co.uk
END:VEVENT
BEGIN:VEVENT
DTSTART;TZID=Europe/London:20220621T180000
DTEND;TZID=Europe/London:20220621T193000
DTSTAMP:20260421T031412
CREATED:20220410T105309Z
LAST-MODIFIED:20220721T110313Z
UID:10000015-1655834400-1655839800@litter-freepurbeck.org.uk
SUMMARY:Swanage Beach Buddies
DESCRIPTION:We would welcome your support at our next sheduled beach clean. \nPlease contact us if you’d like to join in: swanagebeachbuddies@gmail.com or text to 07974 399887. \nCheers\nDave and Sally\n07974 399887
URL:https://litter-freepurbeck.org.uk/event-calendar/swanage-beach-buddies/2022-06-21/
LOCATION:Litter-Free Purbeck Beach Hut\, Shore Road\, Swanage\, Dorset\, BH19 1LB\, United Kingdom
ATTACH;FMTTYPE=image/avif:https://litter-freepurbeck.org.uk/wp-content/uploads/2022/03/Swanage-Beach-Buddies-20th-March-2022.avif
ORGANIZER;CN="Dave and Sally Pratten":MAILTO:swanagebeachbuddies@gmail.com
END:VEVENT
BEGIN:VEVENT
DTSTART;TZID=Europe/London:20220619T090000
DTEND;TZID=Europe/London:20220619T103000
DTSTAMP:20260421T031412
CREATED:20220410T110046Z
LAST-MODIFIED:20240101T112309Z
UID:10000038-1655629200-1655634600@litter-freepurbeck.org.uk
SUMMARY:Swanage Beach Buddies
DESCRIPTION:We would welcome your support at our next sheduled beach clean. \nPlease contact us if you’d like to join in: swanagebeachbuddies@gmail.com or text to 07974 399887. \nCheers\nDave and Sally\n07974 399887
URL:https://litter-freepurbeck.org.uk/event-calendar/swanage-beach-buddies-2/2022-06-19/
LOCATION:Litter-Free Purbeck Beach Hut\, Shore Road\, Swanage\, Dorset\, BH19 1LB\, United Kingdom
ATTACH;FMTTYPE=image/avif:https://litter-freepurbeck.org.uk/wp-content/uploads/2022/03/Swanage-Beach-Buddies-20th-March-2022.avif
ORGANIZER;CN="Dave and Sally Pratten":MAILTO:swanagebeachbuddies@gmail.com
END:VEVENT
BEGIN:VEVENT
DTSTART;TZID=Europe/London:20220616T140000
DTEND;TZID=Europe/London:20220616T153000
DTSTAMP:20260421T031412
CREATED:20220411T135204Z
LAST-MODIFIED:20220712T103459Z
UID:10000085-1655388000-1655393400@litter-freepurbeck.org.uk
SUMMARY:Swanage Landers & Beach Buddies
DESCRIPTION:Meet at the the Main Beach Car Park\, Victoria Avenue\, Swanage BH19 1AP. \nWe would love you to join us. \nFor more details contact Frank Roberts at swanagelanders@herstoncross.co.uk
URL:https://litter-freepurbeck.org.uk/event-calendar/swanage-landers-beach-buddies-2/2022-06-16/
LOCATION:Main Beach car park\, Victoria Avenue\, Swanage\, Dorset\, BH19 1AP\, United Kingdom
ATTACH;FMTTYPE=image/avif:https://litter-freepurbeck.org.uk/wp-content/uploads/2022/03/20220324_152221.avif
ORGANIZER;CN="Frank Roberts":MAILTO:swanagelanders@herstoncross.co.uk
END:VEVENT
BEGIN:VEVENT
DTSTART;TZID=Europe/London:20220614T180000
DTEND;TZID=Europe/London:20220614T193000
DTSTAMP:20260421T031412
CREATED:20220410T105309Z
LAST-MODIFIED:20220721T110313Z
UID:10000014-1655229600-1655235000@litter-freepurbeck.org.uk
SUMMARY:Swanage Beach Buddies
DESCRIPTION:We would welcome your support at our next sheduled beach clean. \nPlease contact us if you’d like to join in: swanagebeachbuddies@gmail.com or text to 07974 399887. \nCheers\nDave and Sally\n07974 399887
URL:https://litter-freepurbeck.org.uk/event-calendar/swanage-beach-buddies/2022-06-14/
LOCATION:Litter-Free Purbeck Beach Hut\, Shore Road\, Swanage\, Dorset\, BH19 1LB\, United Kingdom
ATTACH;FMTTYPE=image/avif:https://litter-freepurbeck.org.uk/wp-content/uploads/2022/03/Swanage-Beach-Buddies-20th-March-2022.avif
ORGANIZER;CN="Dave and Sally Pratten":MAILTO:swanagebeachbuddies@gmail.com
END:VEVENT
BEGIN:VEVENT
DTSTART;TZID=Europe/London:20220612T090000
DTEND;TZID=Europe/London:20220612T103000
DTSTAMP:20260421T031412
CREATED:20220410T110046Z
LAST-MODIFIED:20240101T112309Z
UID:10000037-1655024400-1655029800@litter-freepurbeck.org.uk
SUMMARY:Swanage Beach Buddies
DESCRIPTION:We would welcome your support at our next sheduled beach clean. \nPlease contact us if you’d like to join in: swanagebeachbuddies@gmail.com or text to 07974 399887. \nCheers\nDave and Sally\n07974 399887
URL:https://litter-freepurbeck.org.uk/event-calendar/swanage-beach-buddies-2/2022-06-12/
LOCATION:Litter-Free Purbeck Beach Hut\, Shore Road\, Swanage\, Dorset\, BH19 1LB\, United Kingdom
ATTACH;FMTTYPE=image/avif:https://litter-freepurbeck.org.uk/wp-content/uploads/2022/03/Swanage-Beach-Buddies-20th-March-2022.avif
ORGANIZER;CN="Dave and Sally Pratten":MAILTO:swanagebeachbuddies@gmail.com
END:VEVENT
BEGIN:VEVENT
DTSTART;TZID=Europe/London:20220611T093000
DTEND;TZID=Europe/London:20220611T233000
DTSTAMP:20260421T031412
CREATED:20220410T174205Z
LAST-MODIFIED:20220904T123249Z
UID:10000075-1654939800-1654990200@litter-freepurbeck.org.uk
SUMMARY:Wareham Wombles
DESCRIPTION:Litter-pick from 09:30 -11:30 am\n\n\n\n\n\n\n\n\n\n\n\nWestport House (outside of)\n\nPlease register your attendance in advance at litterfreepurbeck@gmail.com
URL:https://litter-freepurbeck.org.uk/event-calendar/wareham-wombles/2022-06-11/
LOCATION:Westport House (outside of)\, Worgret Road\, Wareham\, Dorset\, BH20 4PP\, United Kingdom
ATTACH;FMTTYPE=image/avif:https://litter-freepurbeck.org.uk/wp-content/uploads/2022/04/Wareham-Wombles-14th-May-2022.avif
ORGANIZER;CN="Harold Forbes":MAILTO:litterfreepurbeck@gmail.com
END:VEVENT
BEGIN:VEVENT
DTSTART;TZID=Europe/London:20220607T180000
DTEND;TZID=Europe/London:20220607T193000
DTSTAMP:20260421T031412
CREATED:20220410T105309Z
LAST-MODIFIED:20220721T110313Z
UID:10000013-1654624800-1654630200@litter-freepurbeck.org.uk
SUMMARY:Swanage Beach Buddies
DESCRIPTION:We would welcome your support at our next sheduled beach clean. \nPlease contact us if you’d like to join in: swanagebeachbuddies@gmail.com or text to 07974 399887. \nCheers\nDave and Sally\n07974 399887
URL:https://litter-freepurbeck.org.uk/event-calendar/swanage-beach-buddies/2022-06-07/
LOCATION:Litter-Free Purbeck Beach Hut\, Shore Road\, Swanage\, Dorset\, BH19 1LB\, United Kingdom
ATTACH;FMTTYPE=image/avif:https://litter-freepurbeck.org.uk/wp-content/uploads/2022/03/Swanage-Beach-Buddies-20th-March-2022.avif
ORGANIZER;CN="Dave and Sally Pratten":MAILTO:swanagebeachbuddies@gmail.com
END:VEVENT
BEGIN:VEVENT
DTSTART;TZID=Europe/London:20220605T090000
DTEND;TZID=Europe/London:20220605T103000
DTSTAMP:20260421T031412
CREATED:20220410T110046Z
LAST-MODIFIED:20240101T112309Z
UID:10000036-1654419600-1654425000@litter-freepurbeck.org.uk
SUMMARY:Swanage Beach Buddies
DESCRIPTION:We would welcome your support at our next sheduled beach clean. \nPlease contact us if you’d like to join in: swanagebeachbuddies@gmail.com or text to 07974 399887. \nCheers\nDave and Sally\n07974 399887
URL:https://litter-freepurbeck.org.uk/event-calendar/swanage-beach-buddies-2/2022-06-05/
LOCATION:Litter-Free Purbeck Beach Hut\, Shore Road\, Swanage\, Dorset\, BH19 1LB\, United Kingdom
ATTACH;FMTTYPE=image/avif:https://litter-freepurbeck.org.uk/wp-content/uploads/2022/03/Swanage-Beach-Buddies-20th-March-2022.avif
ORGANIZER;CN="Dave and Sally Pratten":MAILTO:swanagebeachbuddies@gmail.com
END:VEVENT
BEGIN:VEVENT
DTSTART;TZID=Europe/London:20220602T140000
DTEND;TZID=Europe/London:20220602T153000
DTSTAMP:20260421T031412
CREATED:20220411T135204Z
LAST-MODIFIED:20220712T103459Z
UID:10000084-1654178400-1654183800@litter-freepurbeck.org.uk
SUMMARY:Swanage Landers & Beach Buddies
DESCRIPTION:Meet at the the Main Beach Car Park\, Victoria Avenue\, Swanage BH19 1AP. \nWe would love you to join us. \nFor more details contact Frank Roberts at swanagelanders@herstoncross.co.uk
URL:https://litter-freepurbeck.org.uk/event-calendar/swanage-landers-beach-buddies-2/2022-06-02/
LOCATION:Main Beach car park\, Victoria Avenue\, Swanage\, Dorset\, BH19 1AP\, United Kingdom
ATTACH;FMTTYPE=image/avif:https://litter-freepurbeck.org.uk/wp-content/uploads/2022/03/20220324_152221.avif
ORGANIZER;CN="Frank Roberts":MAILTO:swanagelanders@herstoncross.co.uk
END:VEVENT
BEGIN:VEVENT
DTSTART;TZID=Europe/London:20220531T180000
DTEND;TZID=Europe/London:20220531T193000
DTSTAMP:20260421T031412
CREATED:20220410T105309Z
LAST-MODIFIED:20220721T110313Z
UID:10000012-1654020000-1654025400@litter-freepurbeck.org.uk
SUMMARY:Swanage Beach Buddies
DESCRIPTION:We would welcome your support at our next sheduled beach clean. \nPlease contact us if you’d like to join in: swanagebeachbuddies@gmail.com or text to 07974 399887. \nCheers\nDave and Sally\n07974 399887
URL:https://litter-freepurbeck.org.uk/event-calendar/swanage-beach-buddies/2022-05-31/
LOCATION:Litter-Free Purbeck Beach Hut\, Shore Road\, Swanage\, Dorset\, BH19 1LB\, United Kingdom
ATTACH;FMTTYPE=image/avif:https://litter-freepurbeck.org.uk/wp-content/uploads/2022/03/Swanage-Beach-Buddies-20th-March-2022.avif
ORGANIZER;CN="Dave and Sally Pratten":MAILTO:swanagebeachbuddies@gmail.com
END:VEVENT
BEGIN:VEVENT
DTSTART;TZID=Europe/London:20220529T090000
DTEND;TZID=Europe/London:20220529T103000
DTSTAMP:20260421T031412
CREATED:20220410T110046Z
LAST-MODIFIED:20240101T112309Z
UID:10000035-1653814800-1653820200@litter-freepurbeck.org.uk
SUMMARY:Swanage Beach Buddies
DESCRIPTION:We would welcome your support at our next sheduled beach clean. \nPlease contact us if you’d like to join in: swanagebeachbuddies@gmail.com or text to 07974 399887. \nCheers\nDave and Sally\n07974 399887
URL:https://litter-freepurbeck.org.uk/event-calendar/swanage-beach-buddies-2/2022-05-29/
LOCATION:Litter-Free Purbeck Beach Hut\, Shore Road\, Swanage\, Dorset\, BH19 1LB\, United Kingdom
ATTACH;FMTTYPE=image/avif:https://litter-freepurbeck.org.uk/wp-content/uploads/2022/03/Swanage-Beach-Buddies-20th-March-2022.avif
ORGANIZER;CN="Dave and Sally Pratten":MAILTO:swanagebeachbuddies@gmail.com
END:VEVENT
BEGIN:VEVENT
DTSTART;TZID=Europe/London:20220528T091500
DTEND;TZID=Europe/London:20220528T103000
DTSTAMP:20260421T031412
CREATED:20220410T171935Z
LAST-MODIFIED:20220712T103659Z
UID:10000066-1653729300-1653733800@litter-freepurbeck.org.uk
SUMMARY:Swanage Landers
DESCRIPTION:Our next monthly litter-pick is at the Main Beach Car Park\, Victoria Avenue\, Swanage BH19 1AP. \nWe would love you to join us. \nFor more details contact Frank Roberts at swanagelanders@herstoncross.co.uk
URL:https://litter-freepurbeck.org.uk/event-calendar/swanage-landers/2022-05-28/
LOCATION:Main Beach car park\, Victoria Avenue\, Swanage\, Dorset\, BH19 1AP\, United Kingdom
ATTACH;FMTTYPE=image/avif:https://litter-freepurbeck.org.uk/wp-content/uploads/2021/06/SwanageLanders20190824.avif
ORGANIZER;CN="Frank Roberts":MAILTO:swanagelanders@herstoncross.co.uk
END:VEVENT
BEGIN:VEVENT
DTSTART;TZID=Europe/London:20220524T180000
DTEND;TZID=Europe/London:20220524T193000
DTSTAMP:20260421T031412
CREATED:20220410T105309Z
LAST-MODIFIED:20220721T110313Z
UID:10000011-1653415200-1653420600@litter-freepurbeck.org.uk
SUMMARY:Swanage Beach Buddies
DESCRIPTION:We would welcome your support at our next sheduled beach clean. \nPlease contact us if you’d like to join in: swanagebeachbuddies@gmail.com or text to 07974 399887. \nCheers\nDave and Sally\n07974 399887
URL:https://litter-freepurbeck.org.uk/event-calendar/swanage-beach-buddies/2022-05-24/
LOCATION:Litter-Free Purbeck Beach Hut\, Shore Road\, Swanage\, Dorset\, BH19 1LB\, United Kingdom
ATTACH;FMTTYPE=image/avif:https://litter-freepurbeck.org.uk/wp-content/uploads/2022/03/Swanage-Beach-Buddies-20th-March-2022.avif
ORGANIZER;CN="Dave and Sally Pratten":MAILTO:swanagebeachbuddies@gmail.com
END:VEVENT
BEGIN:VEVENT
DTSTART;TZID=Europe/London:20220522T090000
DTEND;TZID=Europe/London:20220522T103000
DTSTAMP:20260421T031412
CREATED:20220410T110046Z
LAST-MODIFIED:20240101T112309Z
UID:10000034-1653210000-1653215400@litter-freepurbeck.org.uk
SUMMARY:Swanage Beach Buddies
DESCRIPTION:We would welcome your support at our next sheduled beach clean. \nPlease contact us if you’d like to join in: swanagebeachbuddies@gmail.com or text to 07974 399887. \nCheers\nDave and Sally\n07974 399887
URL:https://litter-freepurbeck.org.uk/event-calendar/swanage-beach-buddies-2/2022-05-22/
LOCATION:Litter-Free Purbeck Beach Hut\, Shore Road\, Swanage\, Dorset\, BH19 1LB\, United Kingdom
ATTACH;FMTTYPE=image/avif:https://litter-freepurbeck.org.uk/wp-content/uploads/2022/03/Swanage-Beach-Buddies-20th-March-2022.avif
ORGANIZER;CN="Dave and Sally Pratten":MAILTO:swanagebeachbuddies@gmail.com
END:VEVENT
BEGIN:VEVENT
DTSTART;TZID=Europe/London:20220519T140000
DTEND;TZID=Europe/London:20220519T153000
DTSTAMP:20260421T031412
CREATED:20220411T135204Z
LAST-MODIFIED:20220712T103459Z
UID:10000083-1652968800-1652974200@litter-freepurbeck.org.uk
SUMMARY:Swanage Landers & Beach Buddies
DESCRIPTION:Meet at the the Main Beach Car Park\, Victoria Avenue\, Swanage BH19 1AP. \nWe would love you to join us. \nFor more details contact Frank Roberts at swanagelanders@herstoncross.co.uk
URL:https://litter-freepurbeck.org.uk/event-calendar/swanage-landers-beach-buddies-2/2022-05-19/
LOCATION:Main Beach car park\, Victoria Avenue\, Swanage\, Dorset\, BH19 1AP\, United Kingdom
ATTACH;FMTTYPE=image/avif:https://litter-freepurbeck.org.uk/wp-content/uploads/2022/03/20220324_152221.avif
ORGANIZER;CN="Frank Roberts":MAILTO:swanagelanders@herstoncross.co.uk
END:VEVENT
BEGIN:VEVENT
DTSTART;TZID=Europe/London:20220517T180000
DTEND;TZID=Europe/London:20220517T193000
DTSTAMP:20260421T031412
CREATED:20220410T105309Z
LAST-MODIFIED:20220721T110313Z
UID:10000010-1652810400-1652815800@litter-freepurbeck.org.uk
SUMMARY:Swanage Beach Buddies
DESCRIPTION:We would welcome your support at our next sheduled beach clean. \nPlease contact us if you’d like to join in: swanagebeachbuddies@gmail.com or text to 07974 399887. \nCheers\nDave and Sally\n07974 399887
URL:https://litter-freepurbeck.org.uk/event-calendar/swanage-beach-buddies/2022-05-17/
LOCATION:Litter-Free Purbeck Beach Hut\, Shore Road\, Swanage\, Dorset\, BH19 1LB\, United Kingdom
ATTACH;FMTTYPE=image/avif:https://litter-freepurbeck.org.uk/wp-content/uploads/2022/03/Swanage-Beach-Buddies-20th-March-2022.avif
ORGANIZER;CN="Dave and Sally Pratten":MAILTO:swanagebeachbuddies@gmail.com
END:VEVENT
BEGIN:VEVENT
DTSTART;TZID=Europe/London:20220517T163000
DTEND;TZID=Europe/London:20220517T173000
DTSTAMP:20260421T031412
CREATED:20220501T174703Z
LAST-MODIFIED:20220501T174703Z
UID:10000099-1652805000-1652808600@litter-freepurbeck.org.uk
SUMMARY:Clean Up Corfe
DESCRIPTION:I would appreciate it if some of you are able to join me for an hour or so for our next litter-pick. If anyone knows of an area which is particularly bad for litter\, then please do let me know even if you can’t be there. Many thanks\, Kevin.
URL:https://litter-freepurbeck.org.uk/event-calendar/clean-up-corfe/
LOCATION:The Square\, Corfe Castle\, The Square\, Corfe Castle\, Dorset\, BH20 5EZ\, United Kingdom
ATTACH;FMTTYPE=image/avif:https://litter-freepurbeck.org.uk/wp-content/uploads/2022/05/IMG_0842-copy.avif
ORGANIZER;CN="Kevin Culbert":MAILTO:kevin.culbert@btinternet.com
END:VEVENT
BEGIN:VEVENT
DTSTART;TZID=Europe/London:20220515T090000
DTEND;TZID=Europe/London:20220515T103000
DTSTAMP:20260421T031412
CREATED:20220410T110046Z
LAST-MODIFIED:20240101T112309Z
UID:10000033-1652605200-1652610600@litter-freepurbeck.org.uk
SUMMARY:Swanage Beach Buddies
DESCRIPTION:We would welcome your support at our next sheduled beach clean. \nPlease contact us if you’d like to join in: swanagebeachbuddies@gmail.com or text to 07974 399887. \nCheers\nDave and Sally\n07974 399887
URL:https://litter-freepurbeck.org.uk/event-calendar/swanage-beach-buddies-2/2022-05-15/
LOCATION:Litter-Free Purbeck Beach Hut\, Shore Road\, Swanage\, Dorset\, BH19 1LB\, United Kingdom
ATTACH;FMTTYPE=image/avif:https://litter-freepurbeck.org.uk/wp-content/uploads/2022/03/Swanage-Beach-Buddies-20th-March-2022.avif
ORGANIZER;CN="Dave and Sally Pratten":MAILTO:swanagebeachbuddies@gmail.com
END:VEVENT
BEGIN:VEVENT
DTSTART;TZID=Europe/London:20220514T093000
DTEND;TZID=Europe/London:20220514T233000
DTSTAMP:20260421T031412
CREATED:20220410T174205Z
LAST-MODIFIED:20220904T123249Z
UID:10000074-1652520600-1652571000@litter-freepurbeck.org.uk
SUMMARY:Wareham Wombles
DESCRIPTION:Litter-pick from 09:30 -11:30 am\n\n\n\n\n\n\n\n\n\n\n\nWestport House (outside of)\n\nPlease register your attendance in advance at litterfreepurbeck@gmail.com
URL:https://litter-freepurbeck.org.uk/event-calendar/wareham-wombles/2022-05-14/
LOCATION:Westport House (outside of)\, Worgret Road\, Wareham\, Dorset\, BH20 4PP\, United Kingdom
ATTACH;FMTTYPE=image/avif:https://litter-freepurbeck.org.uk/wp-content/uploads/2022/04/Wareham-Wombles-14th-May-2022.avif
ORGANIZER;CN="Harold Forbes":MAILTO:litterfreepurbeck@gmail.com
END:VEVENT
END:VCALENDAR