BEGIN:VCALENDAR
VERSION:2.0
PRODID:-//Litter-free Purbeck - ECPv6.15.20//NONSGML v1.0//EN
CALSCALE:GREGORIAN
METHOD:PUBLISH
X-WR-CALNAME:Litter-free Purbeck
X-ORIGINAL-URL:https://litter-freepurbeck.org.uk
X-WR-CALDESC:Events for Litter-free Purbeck
REFRESH-INTERVAL;VALUE=DURATION:PT1H
X-Robots-Tag:noindex
X-PUBLISHED-TTL:PT1H
BEGIN:VTIMEZONE
TZID:Europe/London
BEGIN:DAYLIGHT
TZOFFSETFROM:+0000
TZOFFSETTO:+0100
TZNAME:BST
DTSTART:20210328T010000
END:DAYLIGHT
BEGIN:STANDARD
TZOFFSETFROM:+0100
TZOFFSETTO:+0000
TZNAME:GMT
DTSTART:20211031T010000
END:STANDARD
BEGIN:DAYLIGHT
TZOFFSETFROM:+0000
TZOFFSETTO:+0100
TZNAME:BST
DTSTART:20220327T010000
END:DAYLIGHT
BEGIN:STANDARD
TZOFFSETFROM:+0100
TZOFFSETTO:+0000
TZNAME:GMT
DTSTART:20221030T010000
END:STANDARD
BEGIN:DAYLIGHT
TZOFFSETFROM:+0000
TZOFFSETTO:+0100
TZNAME:BST
DTSTART:20230326T010000
END:DAYLIGHT
BEGIN:STANDARD
TZOFFSETFROM:+0100
TZOFFSETTO:+0000
TZNAME:GMT
DTSTART:20231029T010000
END:STANDARD
END:VTIMEZONE
BEGIN:VEVENT
DTSTART;TZID=Europe/London:20220424T090000
DTEND;TZID=Europe/London:20220424T103000
DTSTAMP:20260421T080112
CREATED:20220410T110046Z
LAST-MODIFIED:20240101T112309Z
UID:10000030-1650790800-1650796200@litter-freepurbeck.org.uk
SUMMARY:Swanage Beach Buddies
DESCRIPTION:We would welcome your support at our next sheduled beach clean. \nPlease contact us if you’d like to join in: swanagebeachbuddies@gmail.com or text to 07974 399887. \nCheers\nDave and Sally\n07974 399887
URL:https://litter-freepurbeck.org.uk/event-calendar/swanage-beach-buddies-2/2022-04-24/
LOCATION:Litter-Free Purbeck Beach Hut\, Shore Road\, Swanage\, Dorset\, BH19 1LB\, United Kingdom
ATTACH;FMTTYPE=image/avif:https://litter-freepurbeck.org.uk/wp-content/uploads/2022/03/Swanage-Beach-Buddies-20th-March-2022.avif
ORGANIZER;CN="Dave and Sally Pratten":MAILTO:swanagebeachbuddies@gmail.com
END:VEVENT
BEGIN:VEVENT
DTSTART;TZID=Europe/London:20220421T140000
DTEND;TZID=Europe/London:20220421T153000
DTSTAMP:20260421T080112
CREATED:20220410T170551Z
LAST-MODIFIED:20220410T170551Z
UID:10000065-1650549600-1650555000@litter-freepurbeck.org.uk
SUMMARY:Swanage Landers & Beach Buddies
DESCRIPTION:Meet at the the Main Beach Car Park\, Victoria Avenue\, Swanage BH19 1AP. \nWe would love you to join us. \nFor more details contact Frank Roberts at swanagelanders@herstoncross.co.uk
URL:https://litter-freepurbeck.org.uk/event-calendar/swanage-landers-beach-buddies/
LOCATION:Main Beach car park\, Victoria Avenue\, Swanage\, Dorset\, BH19 1AP\, United Kingdom
ATTACH;FMTTYPE=image/avif:https://litter-freepurbeck.org.uk/wp-content/uploads/2022/03/20220324_152221.avif
ORGANIZER;CN="Frank Roberts":MAILTO:swanagelanders@herstoncross.co.uk
END:VEVENT
BEGIN:VEVENT
DTSTART;TZID=Europe/London:20220419T180000
DTEND;TZID=Europe/London:20220419T193000
DTSTAMP:20260421T080112
CREATED:20220410T105309Z
LAST-MODIFIED:20220721T110313Z
UID:10000006-1650391200-1650396600@litter-freepurbeck.org.uk
SUMMARY:Swanage Beach Buddies
DESCRIPTION:We would welcome your support at our next sheduled beach clean. \nPlease contact us if you’d like to join in: swanagebeachbuddies@gmail.com or text to 07974 399887. \nCheers\nDave and Sally\n07974 399887
URL:https://litter-freepurbeck.org.uk/event-calendar/swanage-beach-buddies/2022-04-19/
LOCATION:Litter-Free Purbeck Beach Hut\, Shore Road\, Swanage\, Dorset\, BH19 1LB\, United Kingdom
ATTACH;FMTTYPE=image/avif:https://litter-freepurbeck.org.uk/wp-content/uploads/2022/03/Swanage-Beach-Buddies-20th-March-2022.avif
ORGANIZER;CN="Dave and Sally Pratten":MAILTO:swanagebeachbuddies@gmail.com
END:VEVENT
BEGIN:VEVENT
DTSTART;TZID=Europe/London:20220417T090000
DTEND;TZID=Europe/London:20220417T103000
DTSTAMP:20260421T080112
CREATED:20220410T110046Z
LAST-MODIFIED:20240101T112309Z
UID:10000029-1650186000-1650191400@litter-freepurbeck.org.uk
SUMMARY:Swanage Beach Buddies
DESCRIPTION:We would welcome your support at our next sheduled beach clean. \nPlease contact us if you’d like to join in: swanagebeachbuddies@gmail.com or text to 07974 399887. \nCheers\nDave and Sally\n07974 399887
URL:https://litter-freepurbeck.org.uk/event-calendar/swanage-beach-buddies-2/2022-04-17/
LOCATION:Litter-Free Purbeck Beach Hut\, Shore Road\, Swanage\, Dorset\, BH19 1LB\, United Kingdom
ATTACH;FMTTYPE=image/avif:https://litter-freepurbeck.org.uk/wp-content/uploads/2022/03/Swanage-Beach-Buddies-20th-March-2022.avif
ORGANIZER;CN="Dave and Sally Pratten":MAILTO:swanagebeachbuddies@gmail.com
END:VEVENT
BEGIN:VEVENT
DTSTART;TZID=Europe/London:20220412T180000
DTEND;TZID=Europe/London:20220412T193000
DTSTAMP:20260421T080112
CREATED:20220410T105309Z
LAST-MODIFIED:20220721T110313Z
UID:10000005-1649786400-1649791800@litter-freepurbeck.org.uk
SUMMARY:Swanage Beach Buddies
DESCRIPTION:We would welcome your support at our next sheduled beach clean. \nPlease contact us if you’d like to join in: swanagebeachbuddies@gmail.com or text to 07974 399887. \nCheers\nDave and Sally\n07974 399887
URL:https://litter-freepurbeck.org.uk/event-calendar/swanage-beach-buddies/2022-04-12/
LOCATION:Litter-Free Purbeck Beach Hut\, Shore Road\, Swanage\, Dorset\, BH19 1LB\, United Kingdom
ATTACH;FMTTYPE=image/avif:https://litter-freepurbeck.org.uk/wp-content/uploads/2022/03/Swanage-Beach-Buddies-20th-March-2022.avif
ORGANIZER;CN="Dave and Sally Pratten":MAILTO:swanagebeachbuddies@gmail.com
END:VEVENT
BEGIN:VEVENT
DTSTART;TZID=Europe/London:20220312T093000
DTEND;TZID=Europe/London:20220312T113000
DTSTAMP:20260421T080112
CREATED:20220228T190515Z
LAST-MODIFIED:20220302T103037Z
UID:10000004-1647077400-1647084600@litter-freepurbeck.org.uk
SUMMARY:Wareham Wombles' Street Clean
DESCRIPTION:Litter-pick from 09:30 -11:30 am\n \n\n\n\n\n\n\n\n\n\n\n\nWestport House (outside of)\n\nRemember to wear stout footwear and bring gloves. \n\nPlease register your attendance in advance at litterfreepurbeck@gmail.com
URL:https://litter-freepurbeck.org.uk/event-calendar/wareham-wombles-street-clean/
LOCATION:Westport House (outside of)\, Worgret Road\, Wareham\, Dorset\, BH20 4PP\, United Kingdom
ATTACH;FMTTYPE=image/avif:https://litter-freepurbeck.org.uk/wp-content/uploads/2021/08/Twilight1-20210825.avif
END:VEVENT
BEGIN:VEVENT
DTSTART;TZID=Europe/London:20220306T090000
DTEND;TZID=Europe/London:20220306T103000
DTSTAMP:20260421T080112
CREATED:20220228T180603Z
LAST-MODIFIED:20220302T103350Z
UID:10000100-1646557200-1646562600@litter-freepurbeck.org.uk
SUMMARY:Beach Buddies Beach Clean
DESCRIPTION:We would welcome your support at our next sheduled beach clean. \nPlease contact us if you’d like to join in: swanagebeachbuddies@gmail.com or text to 07974 399887. \nCheers\nDave and Sally\n07974 399887
URL:https://litter-freepurbeck.org.uk/event-calendar/beach-buddies/
LOCATION:Litter-Free Purbeck Beach Hut\, Shore Road\, Swanage\, Dorset\, BH19 1LB\, United Kingdom
ATTACH;FMTTYPE=image/avif:https://litter-freepurbeck.org.uk/wp-content/uploads/2019/12/79085105_2111465138956357_1494992783327363072_n.avif
END:VEVENT
END:VCALENDAR