BEGIN:VCALENDAR
VERSION:2.0
PRODID:-//Litter-free Purbeck - ECPv6.15.20//NONSGML v1.0//EN
CALSCALE:GREGORIAN
METHOD:PUBLISH
X-WR-CALNAME:Litter-free Purbeck
X-ORIGINAL-URL:https://litter-freepurbeck.org.uk
X-WR-CALDESC:Events for Litter-free Purbeck
REFRESH-INTERVAL;VALUE=DURATION:PT1H
X-Robots-Tag:noindex
X-PUBLISHED-TTL:PT1H
BEGIN:VTIMEZONE
TZID:Europe/London
BEGIN:DAYLIGHT
TZOFFSETFROM:+0000
TZOFFSETTO:+0100
TZNAME:BST
DTSTART:20220327T010000
END:DAYLIGHT
BEGIN:STANDARD
TZOFFSETFROM:+0100
TZOFFSETTO:+0000
TZNAME:GMT
DTSTART:20221030T010000
END:STANDARD
BEGIN:DAYLIGHT
TZOFFSETFROM:+0000
TZOFFSETTO:+0100
TZNAME:BST
DTSTART:20230326T010000
END:DAYLIGHT
BEGIN:STANDARD
TZOFFSETFROM:+0100
TZOFFSETTO:+0000
TZNAME:GMT
DTSTART:20231029T010000
END:STANDARD
BEGIN:DAYLIGHT
TZOFFSETFROM:+0000
TZOFFSETTO:+0100
TZNAME:BST
DTSTART:20240331T010000
END:DAYLIGHT
BEGIN:STANDARD
TZOFFSETFROM:+0100
TZOFFSETTO:+0000
TZNAME:GMT
DTSTART:20241027T010000
END:STANDARD
END:VTIMEZONE
BEGIN:VEVENT
DTSTART;TZID=Europe/London:20230903T090000
DTEND;TZID=Europe/London:20230903T103000
DTSTAMP:20260422T082819
CREATED:20220410T110046Z
LAST-MODIFIED:20240101T112309Z
UID:10000137-1693731600-1693737000@litter-freepurbeck.org.uk
SUMMARY:Swanage Beach Buddies
DESCRIPTION:We would welcome your support at our next sheduled beach clean. \nPlease contact us if you’d like to join in: swanagebeachbuddies@gmail.com or text to 07974 399887. \nCheers\nDave and Sally\n07974 399887
URL:https://litter-freepurbeck.org.uk/event-calendar/swanage-beach-buddies-2/2023-09-03/
LOCATION:Litter-Free Purbeck Beach Hut\, Shore Road\, Swanage\, Dorset\, BH19 1LB\, United Kingdom
ATTACH;FMTTYPE=image/avif:https://litter-freepurbeck.org.uk/wp-content/uploads/2022/03/Swanage-Beach-Buddies-20th-March-2022.avif
ORGANIZER;CN="Dave and Sally Pratten":MAILTO:swanagebeachbuddies@gmail.com
END:VEVENT
BEGIN:VEVENT
DTSTART;TZID=Europe/London:20230905T180000
DTEND;TZID=Europe/London:20230905T193000
DTSTAMP:20260422T082819
CREATED:20230328T173251Z
LAST-MODIFIED:20230328T173508Z
UID:10000492-1693936800-1693942200@litter-freepurbeck.org.uk
SUMMARY:Swanage Beach Buddies - Tuesday Beach Clean
DESCRIPTION:We would welcome your support at our next sheduled beach clean. \nPlease contact us if you’d like to join in: swanagebeachbuddies@gmail.com or text to 07974 399887. \nCheers\nDave and Sally\n07974 399887
URL:https://litter-freepurbeck.org.uk/event-calendar/swanage-beach-buddies-tuesday-beach-clean-2/2023-09-05/
LOCATION:Litter-Free Purbeck Beach Hut\, Shore Road\, Swanage\, Dorset\, BH19 1LB\, United Kingdom
ATTACH;FMTTYPE=image/jpeg:https://litter-freepurbeck.org.uk/wp-content/uploads/2021/09/5th-September-2021.jpg
ORGANIZER;CN="Dave and Sally Pratten":MAILTO:swanagebeachbuddies@gmail.com
END:VEVENT
BEGIN:VEVENT
DTSTART;TZID=Europe/London:20230909T093000
DTEND;TZID=Europe/London:20230909T113000
DTSTAMP:20260422T082819
CREATED:20230103T200138Z
LAST-MODIFIED:20230325T194214Z
UID:10000185-1694251800-1694259000@litter-freepurbeck.org.uk
SUMMARY:Wareham Wombles
DESCRIPTION:Litter-pick from 09:30 -11:30 am\n\n\n\n\n\n\n\n\n\n\n\nWestport House (outside of)\n\nPlease register your attendance in advance at litterfreepurbeck@gmail.com
URL:https://litter-freepurbeck.org.uk/event-calendar/wareham-wombles-2023-onwards/2023-09-09/
LOCATION:Westport House (outside of)\, Worgret Road\, Wareham\, Dorset\, BH20 4PP\, United Kingdom
ATTACH;FMTTYPE=image/avif:https://litter-freepurbeck.org.uk/wp-content/uploads/2022/12/Wareham-Wombles-14th-May-2022.avif
END:VEVENT
BEGIN:VEVENT
DTSTART;TZID=Europe/London:20230910T090000
DTEND;TZID=Europe/London:20230910T103000
DTSTAMP:20260422T082819
CREATED:20220410T110046Z
LAST-MODIFIED:20240101T112309Z
UID:10000138-1694336400-1694341800@litter-freepurbeck.org.uk
SUMMARY:Swanage Beach Buddies
DESCRIPTION:We would welcome your support at our next sheduled beach clean. \nPlease contact us if you’d like to join in: swanagebeachbuddies@gmail.com or text to 07974 399887. \nCheers\nDave and Sally\n07974 399887
URL:https://litter-freepurbeck.org.uk/event-calendar/swanage-beach-buddies-2/2023-09-10/
LOCATION:Litter-Free Purbeck Beach Hut\, Shore Road\, Swanage\, Dorset\, BH19 1LB\, United Kingdom
ATTACH;FMTTYPE=image/avif:https://litter-freepurbeck.org.uk/wp-content/uploads/2022/03/Swanage-Beach-Buddies-20th-March-2022.avif
ORGANIZER;CN="Dave and Sally Pratten":MAILTO:swanagebeachbuddies@gmail.com
END:VEVENT
BEGIN:VEVENT
DTSTART;TZID=Europe/London:20230912T180000
DTEND;TZID=Europe/London:20230912T193000
DTSTAMP:20260422T082819
CREATED:20230328T173251Z
LAST-MODIFIED:20230328T173508Z
UID:10000493-1694541600-1694547000@litter-freepurbeck.org.uk
SUMMARY:Swanage Beach Buddies - Tuesday Beach Clean
DESCRIPTION:We would welcome your support at our next sheduled beach clean. \nPlease contact us if you’d like to join in: swanagebeachbuddies@gmail.com or text to 07974 399887. \nCheers\nDave and Sally\n07974 399887
URL:https://litter-freepurbeck.org.uk/event-calendar/swanage-beach-buddies-tuesday-beach-clean-2/2023-09-12/
LOCATION:Litter-Free Purbeck Beach Hut\, Shore Road\, Swanage\, Dorset\, BH19 1LB\, United Kingdom
ATTACH;FMTTYPE=image/jpeg:https://litter-freepurbeck.org.uk/wp-content/uploads/2021/09/5th-September-2021.jpg
ORGANIZER;CN="Dave and Sally Pratten":MAILTO:swanagebeachbuddies@gmail.com
END:VEVENT
BEGIN:VEVENT
DTSTART;TZID=Europe/London:20230917T090000
DTEND;TZID=Europe/London:20230917T103000
DTSTAMP:20260422T082819
CREATED:20220410T110046Z
LAST-MODIFIED:20240101T112309Z
UID:10000139-1694941200-1694946600@litter-freepurbeck.org.uk
SUMMARY:Swanage Beach Buddies
DESCRIPTION:We would welcome your support at our next sheduled beach clean. \nPlease contact us if you’d like to join in: swanagebeachbuddies@gmail.com or text to 07974 399887. \nCheers\nDave and Sally\n07974 399887
URL:https://litter-freepurbeck.org.uk/event-calendar/swanage-beach-buddies-2/2023-09-17/
LOCATION:Litter-Free Purbeck Beach Hut\, Shore Road\, Swanage\, Dorset\, BH19 1LB\, United Kingdom
ATTACH;FMTTYPE=image/avif:https://litter-freepurbeck.org.uk/wp-content/uploads/2022/03/Swanage-Beach-Buddies-20th-March-2022.avif
ORGANIZER;CN="Dave and Sally Pratten":MAILTO:swanagebeachbuddies@gmail.com
END:VEVENT
BEGIN:VEVENT
DTSTART;TZID=Europe/London:20230919T180000
DTEND;TZID=Europe/London:20230919T193000
DTSTAMP:20260422T082819
CREATED:20230328T173251Z
LAST-MODIFIED:20230328T173508Z
UID:10000494-1695146400-1695151800@litter-freepurbeck.org.uk
SUMMARY:Swanage Beach Buddies - Tuesday Beach Clean
DESCRIPTION:We would welcome your support at our next sheduled beach clean. \nPlease contact us if you’d like to join in: swanagebeachbuddies@gmail.com or text to 07974 399887. \nCheers\nDave and Sally\n07974 399887
URL:https://litter-freepurbeck.org.uk/event-calendar/swanage-beach-buddies-tuesday-beach-clean-2/2023-09-19/
LOCATION:Litter-Free Purbeck Beach Hut\, Shore Road\, Swanage\, Dorset\, BH19 1LB\, United Kingdom
ATTACH;FMTTYPE=image/jpeg:https://litter-freepurbeck.org.uk/wp-content/uploads/2021/09/5th-September-2021.jpg
ORGANIZER;CN="Dave and Sally Pratten":MAILTO:swanagebeachbuddies@gmail.com
END:VEVENT
BEGIN:VEVENT
DTSTART;TZID=Europe/London:20230924T090000
DTEND;TZID=Europe/London:20230924T103000
DTSTAMP:20260422T082819
CREATED:20220410T110046Z
LAST-MODIFIED:20240101T112309Z
UID:10000140-1695546000-1695551400@litter-freepurbeck.org.uk
SUMMARY:Swanage Beach Buddies
DESCRIPTION:We would welcome your support at our next sheduled beach clean. \nPlease contact us if you’d like to join in: swanagebeachbuddies@gmail.com or text to 07974 399887. \nCheers\nDave and Sally\n07974 399887
URL:https://litter-freepurbeck.org.uk/event-calendar/swanage-beach-buddies-2/2023-09-24/
LOCATION:Litter-Free Purbeck Beach Hut\, Shore Road\, Swanage\, Dorset\, BH19 1LB\, United Kingdom
ATTACH;FMTTYPE=image/avif:https://litter-freepurbeck.org.uk/wp-content/uploads/2022/03/Swanage-Beach-Buddies-20th-March-2022.avif
ORGANIZER;CN="Dave and Sally Pratten":MAILTO:swanagebeachbuddies@gmail.com
END:VEVENT
BEGIN:VEVENT
DTSTART;TZID=Europe/London:20230926T180000
DTEND;TZID=Europe/London:20230926T193000
DTSTAMP:20260422T082819
CREATED:20230328T173251Z
LAST-MODIFIED:20230328T173508Z
UID:10000495-1695751200-1695756600@litter-freepurbeck.org.uk
SUMMARY:Swanage Beach Buddies - Tuesday Beach Clean
DESCRIPTION:We would welcome your support at our next sheduled beach clean. \nPlease contact us if you’d like to join in: swanagebeachbuddies@gmail.com or text to 07974 399887. \nCheers\nDave and Sally\n07974 399887
URL:https://litter-freepurbeck.org.uk/event-calendar/swanage-beach-buddies-tuesday-beach-clean-2/2023-09-26/
LOCATION:Litter-Free Purbeck Beach Hut\, Shore Road\, Swanage\, Dorset\, BH19 1LB\, United Kingdom
ATTACH;FMTTYPE=image/jpeg:https://litter-freepurbeck.org.uk/wp-content/uploads/2021/09/5th-September-2021.jpg
ORGANIZER;CN="Dave and Sally Pratten":MAILTO:swanagebeachbuddies@gmail.com
END:VEVENT
BEGIN:VEVENT
DTSTART;TZID=Europe/London:20230930T093000
DTEND;TZID=Europe/London:20230930T120000
DTSTAMP:20260422T082819
CREATED:20230326T153837Z
LAST-MODIFIED:20230326T153837Z
UID:10000208-1696066200-1696075200@litter-freepurbeck.org.uk
SUMMARY:Love Langton Litter Pick
DESCRIPTION:As well as the village centre\, our litter picks cover the many footpaths across the surrounding countryside\, including coastal ones and the well known beauty spot\, Dancing Ledge\, an old cliff-side stone quarry. So\, as with many of the L-FP litter picks\, you take in a lot of the beautiful countryside and coastal views here while beautifying it further by removing rubbish. Some of our volunteers go out at other times that work for them to concentrate on particular grot spots.  \nWe will be finished by noon at the latest\, depending on our routes.
URL:https://litter-freepurbeck.org.uk/event-calendar/love-langton-litter-pick/
LOCATION:St. George’s Close\, by the Church\, St. George’s Close\, Langton Matravers\, Dorset\, BH19 3HA\, United Kingdom
ATTACH;FMTTYPE=image/avif:https://litter-freepurbeck.org.uk/wp-content/uploads/2023/03/180323CathyaboveDncngLdge.avif
END:VEVENT
END:VCALENDAR