BEGIN:VCALENDAR
VERSION:2.0
PRODID:-//Litter-free Purbeck - ECPv6.15.20//NONSGML v1.0//EN
CALSCALE:GREGORIAN
METHOD:PUBLISH
X-WR-CALNAME:Litter-free Purbeck
X-ORIGINAL-URL:https://litter-freepurbeck.org.uk
X-WR-CALDESC:Events for Litter-free Purbeck
REFRESH-INTERVAL;VALUE=DURATION:PT1H
X-Robots-Tag:noindex
X-PUBLISHED-TTL:PT1H
BEGIN:VTIMEZONE
TZID:Europe/London
BEGIN:DAYLIGHT
TZOFFSETFROM:+0000
TZOFFSETTO:+0100
TZNAME:BST
DTSTART:20230326T010000
END:DAYLIGHT
BEGIN:STANDARD
TZOFFSETFROM:+0100
TZOFFSETTO:+0000
TZNAME:GMT
DTSTART:20231029T010000
END:STANDARD
BEGIN:DAYLIGHT
TZOFFSETFROM:+0000
TZOFFSETTO:+0100
TZNAME:BST
DTSTART:20240331T010000
END:DAYLIGHT
BEGIN:STANDARD
TZOFFSETFROM:+0100
TZOFFSETTO:+0000
TZNAME:GMT
DTSTART:20241027T010000
END:STANDARD
BEGIN:DAYLIGHT
TZOFFSETFROM:+0000
TZOFFSETTO:+0100
TZNAME:BST
DTSTART:20250330T010000
END:DAYLIGHT
BEGIN:STANDARD
TZOFFSETFROM:+0100
TZOFFSETTO:+0000
TZNAME:GMT
DTSTART:20251026T010000
END:STANDARD
END:VTIMEZONE
BEGIN:VEVENT
DTSTART;TZID=Europe/London:20240804T090000
DTEND;TZID=Europe/London:20240804T103000
DTSTAMP:20260421T163102
CREATED:20220410T110046Z
LAST-MODIFIED:20240101T112309Z
UID:10000764-1722762000-1722767400@litter-freepurbeck.org.uk
SUMMARY:Swanage Beach Buddies
DESCRIPTION:We would welcome your support at our next sheduled beach clean. \nPlease contact us if you’d like to join in: swanagebeachbuddies@gmail.com or text to 07974 399887. \nCheers\nDave and Sally\n07974 399887
URL:https://litter-freepurbeck.org.uk/event-calendar/swanage-beach-buddies-2/2024-08-04/
LOCATION:Litter-Free Purbeck Beach Hut\, Shore Road\, Swanage\, Dorset\, BH19 1LB\, United Kingdom
ATTACH;FMTTYPE=image/avif:https://litter-freepurbeck.org.uk/wp-content/uploads/2022/03/Swanage-Beach-Buddies-20th-March-2022.avif
ORGANIZER;CN="Dave and Sally Pratten":MAILTO:swanagebeachbuddies@gmail.com
END:VEVENT
BEGIN:VEVENT
DTSTART;TZID=Europe/London:20240806T180000
DTEND;TZID=Europe/London:20240806T193000
DTSTAMP:20260421T163102
CREATED:20230328T172438Z
LAST-MODIFIED:20240505T103504Z
UID:10000823-1722967200-1722972600@litter-freepurbeck.org.uk
SUMMARY:Swanage Beach Buddies - Tuesday Beach Clean
DESCRIPTION:We would welcome your support at our next sheduled beach clean. \nPlease contact us if you’d like to join in: swanagebeachbuddies@gmail.com or text to 07974 399887. \nCheers\nDave and Sally\n07974 399887
URL:https://litter-freepurbeck.org.uk/event-calendar/swanage-beach-buddies-tuesday-beach-clean/2024-08-06/
LOCATION:Litter-Free Purbeck Beach Hut\, Shore Road\, Swanage\, Dorset\, BH19 1LB\, United Kingdom
ATTACH;FMTTYPE=image/jpeg:https://litter-freepurbeck.org.uk/wp-content/uploads/2021/09/5th-September-2021.jpg
ORGANIZER;CN="Dave and Sally Pratten":MAILTO:swanagebeachbuddies@gmail.com
END:VEVENT
BEGIN:VEVENT
DTSTART;TZID=Europe/London:20240810T093000
DTEND;TZID=Europe/London:20240810T113000
DTSTAMP:20260421T163102
CREATED:20240101T111140Z
LAST-MODIFIED:20240101T111447Z
UID:10000679-1723282200-1723289400@litter-freepurbeck.org.uk
SUMMARY:Wareham Wombles
DESCRIPTION:Litter-pick from 09:30 -11:30 am\n\n\n\n\n\n\n\n\n\n\n\nWestport House (outside of)\n\nPlease register your attendance in advance at litterfreepurbeck@gmail.com
URL:https://litter-freepurbeck.org.uk/event-calendar/wareham-wombles-2023-onwards-2/2024-08-10/
LOCATION:Westport House (outside of)\, Worgret Road\, Wareham\, Dorset\, BH20 4PP\, United Kingdom
ATTACH;FMTTYPE=image/avif:https://litter-freepurbeck.org.uk/wp-content/uploads/2023/12/Wareham-Wombles-9th-December-2023-2.avif
END:VEVENT
BEGIN:VEVENT
DTSTART;TZID=Europe/London:20240811T090000
DTEND;TZID=Europe/London:20240811T103000
DTSTAMP:20260421T163102
CREATED:20220410T110046Z
LAST-MODIFIED:20240101T112309Z
UID:10000765-1723366800-1723372200@litter-freepurbeck.org.uk
SUMMARY:Swanage Beach Buddies
DESCRIPTION:We would welcome your support at our next sheduled beach clean. \nPlease contact us if you’d like to join in: swanagebeachbuddies@gmail.com or text to 07974 399887. \nCheers\nDave and Sally\n07974 399887
URL:https://litter-freepurbeck.org.uk/event-calendar/swanage-beach-buddies-2/2024-08-11/
LOCATION:Litter-Free Purbeck Beach Hut\, Shore Road\, Swanage\, Dorset\, BH19 1LB\, United Kingdom
ATTACH;FMTTYPE=image/avif:https://litter-freepurbeck.org.uk/wp-content/uploads/2022/03/Swanage-Beach-Buddies-20th-March-2022.avif
ORGANIZER;CN="Dave and Sally Pratten":MAILTO:swanagebeachbuddies@gmail.com
END:VEVENT
BEGIN:VEVENT
DTSTART;TZID=Europe/London:20240813T180000
DTEND;TZID=Europe/London:20240813T193000
DTSTAMP:20260421T163102
CREATED:20230328T172438Z
LAST-MODIFIED:20240505T103504Z
UID:10000824-1723572000-1723577400@litter-freepurbeck.org.uk
SUMMARY:Swanage Beach Buddies - Tuesday Beach Clean
DESCRIPTION:We would welcome your support at our next sheduled beach clean. \nPlease contact us if you’d like to join in: swanagebeachbuddies@gmail.com or text to 07974 399887. \nCheers\nDave and Sally\n07974 399887
URL:https://litter-freepurbeck.org.uk/event-calendar/swanage-beach-buddies-tuesday-beach-clean/2024-08-13/
LOCATION:Litter-Free Purbeck Beach Hut\, Shore Road\, Swanage\, Dorset\, BH19 1LB\, United Kingdom
ATTACH;FMTTYPE=image/jpeg:https://litter-freepurbeck.org.uk/wp-content/uploads/2021/09/5th-September-2021.jpg
ORGANIZER;CN="Dave and Sally Pratten":MAILTO:swanagebeachbuddies@gmail.com
END:VEVENT
BEGIN:VEVENT
DTSTART;TZID=Europe/London:20240818T090000
DTEND;TZID=Europe/London:20240818T103000
DTSTAMP:20260421T163102
CREATED:20220410T110046Z
LAST-MODIFIED:20240101T112309Z
UID:10000766-1723971600-1723977000@litter-freepurbeck.org.uk
SUMMARY:Swanage Beach Buddies
DESCRIPTION:We would welcome your support at our next sheduled beach clean. \nPlease contact us if you’d like to join in: swanagebeachbuddies@gmail.com or text to 07974 399887. \nCheers\nDave and Sally\n07974 399887
URL:https://litter-freepurbeck.org.uk/event-calendar/swanage-beach-buddies-2/2024-08-18/
LOCATION:Litter-Free Purbeck Beach Hut\, Shore Road\, Swanage\, Dorset\, BH19 1LB\, United Kingdom
ATTACH;FMTTYPE=image/avif:https://litter-freepurbeck.org.uk/wp-content/uploads/2022/03/Swanage-Beach-Buddies-20th-March-2022.avif
ORGANIZER;CN="Dave and Sally Pratten":MAILTO:swanagebeachbuddies@gmail.com
END:VEVENT
BEGIN:VEVENT
DTSTART;TZID=Europe/London:20240820T180000
DTEND;TZID=Europe/London:20240820T193000
DTSTAMP:20260421T163102
CREATED:20230328T172438Z
LAST-MODIFIED:20240505T103504Z
UID:10000825-1724176800-1724182200@litter-freepurbeck.org.uk
SUMMARY:Swanage Beach Buddies - Tuesday Beach Clean
DESCRIPTION:We would welcome your support at our next sheduled beach clean. \nPlease contact us if you’d like to join in: swanagebeachbuddies@gmail.com or text to 07974 399887. \nCheers\nDave and Sally\n07974 399887
URL:https://litter-freepurbeck.org.uk/event-calendar/swanage-beach-buddies-tuesday-beach-clean/2024-08-20/
LOCATION:Litter-Free Purbeck Beach Hut\, Shore Road\, Swanage\, Dorset\, BH19 1LB\, United Kingdom
ATTACH;FMTTYPE=image/jpeg:https://litter-freepurbeck.org.uk/wp-content/uploads/2021/09/5th-September-2021.jpg
ORGANIZER;CN="Dave and Sally Pratten":MAILTO:swanagebeachbuddies@gmail.com
END:VEVENT
BEGIN:VEVENT
DTSTART;TZID=Europe/London:20240825T090000
DTEND;TZID=Europe/London:20240825T103000
DTSTAMP:20260421T163102
CREATED:20220410T110046Z
LAST-MODIFIED:20240101T112309Z
UID:10000767-1724576400-1724581800@litter-freepurbeck.org.uk
SUMMARY:Swanage Beach Buddies
DESCRIPTION:We would welcome your support at our next sheduled beach clean. \nPlease contact us if you’d like to join in: swanagebeachbuddies@gmail.com or text to 07974 399887. \nCheers\nDave and Sally\n07974 399887
URL:https://litter-freepurbeck.org.uk/event-calendar/swanage-beach-buddies-2/2024-08-25/
LOCATION:Litter-Free Purbeck Beach Hut\, Shore Road\, Swanage\, Dorset\, BH19 1LB\, United Kingdom
ATTACH;FMTTYPE=image/avif:https://litter-freepurbeck.org.uk/wp-content/uploads/2022/03/Swanage-Beach-Buddies-20th-March-2022.avif
ORGANIZER;CN="Dave and Sally Pratten":MAILTO:swanagebeachbuddies@gmail.com
END:VEVENT
BEGIN:VEVENT
DTSTART;TZID=Europe/London:20240827T180000
DTEND;TZID=Europe/London:20240827T193000
DTSTAMP:20260421T163102
CREATED:20230328T172438Z
LAST-MODIFIED:20240505T103504Z
UID:10000826-1724781600-1724787000@litter-freepurbeck.org.uk
SUMMARY:Swanage Beach Buddies - Tuesday Beach Clean
DESCRIPTION:We would welcome your support at our next sheduled beach clean. \nPlease contact us if you’d like to join in: swanagebeachbuddies@gmail.com or text to 07974 399887. \nCheers\nDave and Sally\n07974 399887
URL:https://litter-freepurbeck.org.uk/event-calendar/swanage-beach-buddies-tuesday-beach-clean/2024-08-27/
LOCATION:Litter-Free Purbeck Beach Hut\, Shore Road\, Swanage\, Dorset\, BH19 1LB\, United Kingdom
ATTACH;FMTTYPE=image/jpeg:https://litter-freepurbeck.org.uk/wp-content/uploads/2021/09/5th-September-2021.jpg
ORGANIZER;CN="Dave and Sally Pratten":MAILTO:swanagebeachbuddies@gmail.com
END:VEVENT
END:VCALENDAR