BEGIN:VCALENDAR
VERSION:2.0
PRODID:-//Litter-free Purbeck - ECPv6.15.20//NONSGML v1.0//EN
CALSCALE:GREGORIAN
METHOD:PUBLISH
X-WR-CALNAME:Litter-free Purbeck
X-ORIGINAL-URL:https://litter-freepurbeck.org.uk
X-WR-CALDESC:Events for Litter-free Purbeck
REFRESH-INTERVAL;VALUE=DURATION:PT1H
X-Robots-Tag:noindex
X-PUBLISHED-TTL:PT1H
BEGIN:VTIMEZONE
TZID:Europe/London
BEGIN:DAYLIGHT
TZOFFSETFROM:+0000
TZOFFSETTO:+0100
TZNAME:BST
DTSTART:20260329T010000
END:DAYLIGHT
BEGIN:STANDARD
TZOFFSETFROM:+0100
TZOFFSETTO:+0000
TZNAME:GMT
DTSTART:20261025T010000
END:STANDARD
BEGIN:DAYLIGHT
TZOFFSETFROM:+0000
TZOFFSETTO:+0100
TZNAME:BST
DTSTART:20270328T010000
END:DAYLIGHT
BEGIN:STANDARD
TZOFFSETFROM:+0100
TZOFFSETTO:+0000
TZNAME:GMT
DTSTART:20271031T010000
END:STANDARD
BEGIN:DAYLIGHT
TZOFFSETFROM:+0000
TZOFFSETTO:+0100
TZNAME:BST
DTSTART:20280326T010000
END:DAYLIGHT
BEGIN:STANDARD
TZOFFSETFROM:+0100
TZOFFSETTO:+0000
TZNAME:GMT
DTSTART:20281029T010000
END:STANDARD
END:VTIMEZONE
BEGIN:VEVENT
DTSTART;TZID=Europe/London:20270704T090000
DTEND;TZID=Europe/London:20270704T103000
DTSTAMP:20260422T051905
CREATED:20250120T192131Z
LAST-MODIFIED:20250120T192404Z
UID:10000957-1814691600-1814697000@litter-freepurbeck.org.uk
SUMMARY:Swanage Beach Buddies
DESCRIPTION:We would welcome your support at our next sheduled beach clean. \nPlease contact us if you’d like to join in: swanagebeachbuddies@gmail.com or text to 07974 399887. \nCheers\nDave and Sally\n07974 399887
URL:https://litter-freepurbeck.org.uk/event-calendar/swanage-beach-buddies-2-2/2027-07-04/
LOCATION:Litter-Free Purbeck Beach Hut\, Shore Road\, Swanage\, Dorset\, BH19 1LB\, United Kingdom
ATTACH;FMTTYPE=image/avif:https://litter-freepurbeck.org.uk/wp-content/uploads/2022/03/Swanage-Beach-Buddies-20th-March-2022.avif
ORGANIZER;CN="Dave and Sally Pratten":MAILTO:swanagebeachbuddies@gmail.com
END:VEVENT
BEGIN:VEVENT
DTSTART;TZID=Europe/London:20270710T093000
DTEND;TZID=Europe/London:20270710T113000
DTSTAMP:20260422T051905
CREATED:20240101T111140Z
LAST-MODIFIED:20240101T111447Z
UID:10000714-1815211800-1815219000@litter-freepurbeck.org.uk
SUMMARY:Wareham Wombles
DESCRIPTION:Litter-pick from 09:30 -11:30 am\n\n\n\n\n\n\n\n\n\n\n\nWestport House (outside of)\n\nPlease register your attendance in advance at litterfreepurbeck@gmail.com
URL:https://litter-freepurbeck.org.uk/event-calendar/wareham-wombles-2023-onwards-2/2027-07-10/
LOCATION:Westport House (outside of)\, Worgret Road\, Wareham\, Dorset\, BH20 4PP\, United Kingdom
ATTACH;FMTTYPE=image/avif:https://litter-freepurbeck.org.uk/wp-content/uploads/2023/12/Wareham-Wombles-9th-December-2023-2.avif
END:VEVENT
BEGIN:VEVENT
DTSTART;TZID=Europe/London:20270711T090000
DTEND;TZID=Europe/London:20270711T103000
DTSTAMP:20260422T051905
CREATED:20250120T192131Z
LAST-MODIFIED:20250120T192404Z
UID:10000958-1815296400-1815301800@litter-freepurbeck.org.uk
SUMMARY:Swanage Beach Buddies
DESCRIPTION:We would welcome your support at our next sheduled beach clean. \nPlease contact us if you’d like to join in: swanagebeachbuddies@gmail.com or text to 07974 399887. \nCheers\nDave and Sally\n07974 399887
URL:https://litter-freepurbeck.org.uk/event-calendar/swanage-beach-buddies-2-2/2027-07-11/
LOCATION:Litter-Free Purbeck Beach Hut\, Shore Road\, Swanage\, Dorset\, BH19 1LB\, United Kingdom
ATTACH;FMTTYPE=image/avif:https://litter-freepurbeck.org.uk/wp-content/uploads/2022/03/Swanage-Beach-Buddies-20th-March-2022.avif
ORGANIZER;CN="Dave and Sally Pratten":MAILTO:swanagebeachbuddies@gmail.com
END:VEVENT
BEGIN:VEVENT
DTSTART;TZID=Europe/London:20270718T090000
DTEND;TZID=Europe/London:20270718T103000
DTSTAMP:20260422T051905
CREATED:20250120T192131Z
LAST-MODIFIED:20250120T192404Z
UID:10000959-1815901200-1815906600@litter-freepurbeck.org.uk
SUMMARY:Swanage Beach Buddies
DESCRIPTION:We would welcome your support at our next sheduled beach clean. \nPlease contact us if you’d like to join in: swanagebeachbuddies@gmail.com or text to 07974 399887. \nCheers\nDave and Sally\n07974 399887
URL:https://litter-freepurbeck.org.uk/event-calendar/swanage-beach-buddies-2-2/2027-07-18/
LOCATION:Litter-Free Purbeck Beach Hut\, Shore Road\, Swanage\, Dorset\, BH19 1LB\, United Kingdom
ATTACH;FMTTYPE=image/avif:https://litter-freepurbeck.org.uk/wp-content/uploads/2022/03/Swanage-Beach-Buddies-20th-March-2022.avif
ORGANIZER;CN="Dave and Sally Pratten":MAILTO:swanagebeachbuddies@gmail.com
END:VEVENT
BEGIN:VEVENT
DTSTART;TZID=Europe/London:20270725T090000
DTEND;TZID=Europe/London:20270725T103000
DTSTAMP:20260422T051905
CREATED:20250120T192131Z
LAST-MODIFIED:20250120T192404Z
UID:10000960-1816506000-1816511400@litter-freepurbeck.org.uk
SUMMARY:Swanage Beach Buddies
DESCRIPTION:We would welcome your support at our next sheduled beach clean. \nPlease contact us if you’d like to join in: swanagebeachbuddies@gmail.com or text to 07974 399887. \nCheers\nDave and Sally\n07974 399887
URL:https://litter-freepurbeck.org.uk/event-calendar/swanage-beach-buddies-2-2/2027-07-25/
LOCATION:Litter-Free Purbeck Beach Hut\, Shore Road\, Swanage\, Dorset\, BH19 1LB\, United Kingdom
ATTACH;FMTTYPE=image/avif:https://litter-freepurbeck.org.uk/wp-content/uploads/2022/03/Swanage-Beach-Buddies-20th-March-2022.avif
ORGANIZER;CN="Dave and Sally Pratten":MAILTO:swanagebeachbuddies@gmail.com
END:VEVENT
END:VCALENDAR