BEGIN:VCALENDAR
VERSION:2.0
PRODID:-//Litter-free Purbeck - ECPv6.15.20//NONSGML v1.0//EN
CALSCALE:GREGORIAN
METHOD:PUBLISH
X-WR-CALNAME:Litter-free Purbeck
X-ORIGINAL-URL:https://litter-freepurbeck.org.uk
X-WR-CALDESC:Events for Litter-free Purbeck
REFRESH-INTERVAL;VALUE=DURATION:PT1H
X-Robots-Tag:noindex
X-PUBLISHED-TTL:PT1H
BEGIN:VTIMEZONE
TZID:Europe/London
BEGIN:DAYLIGHT
TZOFFSETFROM:+0000
TZOFFSETTO:+0100
TZNAME:BST
DTSTART:20270328T010000
END:DAYLIGHT
BEGIN:STANDARD
TZOFFSETFROM:+0100
TZOFFSETTO:+0000
TZNAME:GMT
DTSTART:20271031T010000
END:STANDARD
BEGIN:DAYLIGHT
TZOFFSETFROM:+0000
TZOFFSETTO:+0100
TZNAME:BST
DTSTART:20280326T010000
END:DAYLIGHT
BEGIN:STANDARD
TZOFFSETFROM:+0100
TZOFFSETTO:+0000
TZNAME:GMT
DTSTART:20281029T010000
END:STANDARD
BEGIN:DAYLIGHT
TZOFFSETFROM:+0000
TZOFFSETTO:+0100
TZNAME:BST
DTSTART:20290325T010000
END:DAYLIGHT
BEGIN:STANDARD
TZOFFSETFROM:+0100
TZOFFSETTO:+0000
TZNAME:GMT
DTSTART:20291028T010000
END:STANDARD
END:VTIMEZONE
BEGIN:VEVENT
DTSTART;TZID=Europe/London:20280102T090000
DTEND;TZID=Europe/London:20280102T103000
DTSTAMP:20260422T141054
CREATED:20250120T192131Z
LAST-MODIFIED:20250120T192404Z
UID:10000983-1830416400-1830421800@litter-freepurbeck.org.uk
SUMMARY:Swanage Beach Buddies
DESCRIPTION:We would welcome your support at our next sheduled beach clean. \nPlease contact us if you’d like to join in: swanagebeachbuddies@gmail.com or text to 07974 399887. \nCheers\nDave and Sally\n07974 399887
URL:https://litter-freepurbeck.org.uk/event-calendar/swanage-beach-buddies-2-2/2028-01-02/
LOCATION:Litter-Free Purbeck Beach Hut\, Shore Road\, Swanage\, Dorset\, BH19 1LB\, United Kingdom
ATTACH;FMTTYPE=image/avif:https://litter-freepurbeck.org.uk/wp-content/uploads/2022/03/Swanage-Beach-Buddies-20th-March-2022.avif
ORGANIZER;CN="Dave and Sally Pratten":MAILTO:swanagebeachbuddies@gmail.com
END:VEVENT
BEGIN:VEVENT
DTSTART;TZID=Europe/London:20280108T093000
DTEND;TZID=Europe/London:20280108T113000
DTSTAMP:20260422T141054
CREATED:20240101T111140Z
LAST-MODIFIED:20240101T111447Z
UID:10000720-1830936600-1830943800@litter-freepurbeck.org.uk
SUMMARY:Wareham Wombles
DESCRIPTION:Litter-pick from 09:30 -11:30 am\n\n\n\n\n\n\n\n\n\n\n\nWestport House (outside of)\n\nPlease register your attendance in advance at litterfreepurbeck@gmail.com
URL:https://litter-freepurbeck.org.uk/event-calendar/wareham-wombles-2023-onwards-2/2028-01-08/
LOCATION:Westport House (outside of)\, Worgret Road\, Wareham\, Dorset\, BH20 4PP\, United Kingdom
ATTACH;FMTTYPE=image/avif:https://litter-freepurbeck.org.uk/wp-content/uploads/2023/12/Wareham-Wombles-9th-December-2023-2.avif
END:VEVENT
BEGIN:VEVENT
DTSTART;TZID=Europe/London:20280109T090000
DTEND;TZID=Europe/London:20280109T103000
DTSTAMP:20260422T141054
CREATED:20250120T192131Z
LAST-MODIFIED:20250120T192404Z
UID:10000984-1831021200-1831026600@litter-freepurbeck.org.uk
SUMMARY:Swanage Beach Buddies
DESCRIPTION:We would welcome your support at our next sheduled beach clean. \nPlease contact us if you’d like to join in: swanagebeachbuddies@gmail.com or text to 07974 399887. \nCheers\nDave and Sally\n07974 399887
URL:https://litter-freepurbeck.org.uk/event-calendar/swanage-beach-buddies-2-2/2028-01-09/
LOCATION:Litter-Free Purbeck Beach Hut\, Shore Road\, Swanage\, Dorset\, BH19 1LB\, United Kingdom
ATTACH;FMTTYPE=image/avif:https://litter-freepurbeck.org.uk/wp-content/uploads/2022/03/Swanage-Beach-Buddies-20th-March-2022.avif
ORGANIZER;CN="Dave and Sally Pratten":MAILTO:swanagebeachbuddies@gmail.com
END:VEVENT
BEGIN:VEVENT
DTSTART;TZID=Europe/London:20280116T090000
DTEND;TZID=Europe/London:20280116T103000
DTSTAMP:20260422T141054
CREATED:20250120T192131Z
LAST-MODIFIED:20250120T192404Z
UID:10000985-1831626000-1831631400@litter-freepurbeck.org.uk
SUMMARY:Swanage Beach Buddies
DESCRIPTION:We would welcome your support at our next sheduled beach clean. \nPlease contact us if you’d like to join in: swanagebeachbuddies@gmail.com or text to 07974 399887. \nCheers\nDave and Sally\n07974 399887
URL:https://litter-freepurbeck.org.uk/event-calendar/swanage-beach-buddies-2-2/2028-01-16/
LOCATION:Litter-Free Purbeck Beach Hut\, Shore Road\, Swanage\, Dorset\, BH19 1LB\, United Kingdom
ATTACH;FMTTYPE=image/avif:https://litter-freepurbeck.org.uk/wp-content/uploads/2022/03/Swanage-Beach-Buddies-20th-March-2022.avif
ORGANIZER;CN="Dave and Sally Pratten":MAILTO:swanagebeachbuddies@gmail.com
END:VEVENT
BEGIN:VEVENT
DTSTART;TZID=Europe/London:20280123T090000
DTEND;TZID=Europe/London:20280123T103000
DTSTAMP:20260422T141054
CREATED:20250120T192131Z
LAST-MODIFIED:20250120T192404Z
UID:10000986-1832230800-1832236200@litter-freepurbeck.org.uk
SUMMARY:Swanage Beach Buddies
DESCRIPTION:We would welcome your support at our next sheduled beach clean. \nPlease contact us if you’d like to join in: swanagebeachbuddies@gmail.com or text to 07974 399887. \nCheers\nDave and Sally\n07974 399887
URL:https://litter-freepurbeck.org.uk/event-calendar/swanage-beach-buddies-2-2/2028-01-23/
LOCATION:Litter-Free Purbeck Beach Hut\, Shore Road\, Swanage\, Dorset\, BH19 1LB\, United Kingdom
ATTACH;FMTTYPE=image/avif:https://litter-freepurbeck.org.uk/wp-content/uploads/2022/03/Swanage-Beach-Buddies-20th-March-2022.avif
ORGANIZER;CN="Dave and Sally Pratten":MAILTO:swanagebeachbuddies@gmail.com
END:VEVENT
BEGIN:VEVENT
DTSTART;TZID=Europe/London:20280130T090000
DTEND;TZID=Europe/London:20280130T103000
DTSTAMP:20260422T141054
CREATED:20250120T192131Z
LAST-MODIFIED:20250120T192404Z
UID:10000987-1832835600-1832841000@litter-freepurbeck.org.uk
SUMMARY:Swanage Beach Buddies
DESCRIPTION:We would welcome your support at our next sheduled beach clean. \nPlease contact us if you’d like to join in: swanagebeachbuddies@gmail.com or text to 07974 399887. \nCheers\nDave and Sally\n07974 399887
URL:https://litter-freepurbeck.org.uk/event-calendar/swanage-beach-buddies-2-2/2028-01-30/
LOCATION:Litter-Free Purbeck Beach Hut\, Shore Road\, Swanage\, Dorset\, BH19 1LB\, United Kingdom
ATTACH;FMTTYPE=image/avif:https://litter-freepurbeck.org.uk/wp-content/uploads/2022/03/Swanage-Beach-Buddies-20th-March-2022.avif
ORGANIZER;CN="Dave and Sally Pratten":MAILTO:swanagebeachbuddies@gmail.com
END:VEVENT
END:VCALENDAR